Workbook
Name aa: #REF!
Name CODI_ISTITUZIONE: #REF!
Name CODI_ISTITUZIONE2: #REF!
Name DESC_ISTITUZIONE: #REF!
Name DESC_ISTITUZIONE2: #REF!
Name IIS_Mensile: #REF!
Name Indennità_qualifica: #REF!
Name Indennità_vigilanza: #REF!
Name IndennitàQualif_Mensile: #REF!
Name PosizioneEconomica: '[1]Posizione Economica'!$A$1:$B$17
Name Salario_Individuale: #REF!
Name SalarioIndivid_Mensile: #REF!
Name Scatti: #REF!
Name ScattiMensile: #REF!
Name StipendioMensile: #REF!
Name TOTMESE: [2]Gennaio!$B$35:$H$35

Sheet Diff.pers.2018-corrente
A3: personale a tempo indeterminato
A4: 2018 | B4: 34 | C4: AL 31.12.2018
A5: 2019 | B5: 32
A6: 2020 | B6: 31
A7: 2021 | B7: 31
A8: 2022 | B8: 35
A9: 2023 | B9: 35
A10: 2024 | B10: 35

Sheet Calcolo capacità 2024
A1: CALCOLO CAPACITA' ASSUNZIONALI (ART. 33, COMMA 4, D.L. 34/2019 - D.P.C.M. 17/03/2020)
A3: 1) Individuazione dei valori soglia - art. 4, comma 1 e art. 6; tabelle 1 e 3 | F3: 2024
A5: COMUNE DI | B5: CAMPO NELL'ELBA
A6: POPOLAZIONE | B6: 4500
A7: FASCIA | B7: D
A8: VALORE SOGLIA PIU' BASSO | B8: 0.272
A9: VALORE SOGLIA PIU' ALTO | B9: 0.312
A11: Fascia | B11: Popolazione | C11: Tabella 1 (Valore soglia più basso) | D11: Tabella 3 (Valore soglia più alto) | F11: CALCOLI DA BILANCIO
A12: a | B12: 0-999 | C12: 0.295 | D12: 0.335 | E12: Entrate | F12: 2020 | G12: 2021 | H12: 2022
A13: b | B13: 1000-1999 | C13: 0.286 | D13: 0.326 | E13: 1 | F13: 8197839.1 | G13: 8316115.8 | H13: 8439457.2 | I13: Entrate correnti di natura tributaria
A14: c | B14: 2000-2999 | C14: 0.276 | D14: 0.316 | E14: 2 | F14: 2604932.3 | G14: 1983397.8 | H14: 1482935.2 | I14: Trasferimenti correnti
A15: d | B15: 3000-4999 | C15: 0.272 | D15: 0.312 | E15: 3 | F15: 1218279.1 | G15: 1416447.6 | H15: 1627319.6 | I15: Entrate extratributarie
A16: e | B16: 5000-9999 | C16: 0.269 | D16: 0.309 | E16: Totale | F16: =SUM(F13:F15) -> 12021050 | G16: =SUM(G13:G15) -> 11715961 | H16: =SUM(H13:H15) -> 11549712
A17: f | B17: 10000-59999 | C17: 0.27 | D17: 0.31 | F17: Media | G17: =SUM(F16:H16)/3 -> 11762241
A18: g | B18: 60000-249999 | C18: 0.276 | D18: 0.316
A19: h | B19: 250000-14999999 | C19: 0.288 | D19: 0.328
A20: i | B20: 1500000> | C20: 0.253 | D20: 0.293 | H20: Colonna da aggiornare
G21: all'ultimo | H21: consuntivo approvato
A22: 2) Calcolo rapporto Spesa di personale su entrate correnti - art. 2 | G22: CALCOLI DA BILANCIO
B24: IMPORTI | D24: DEFINIZIONI | F24: Spese | G24: 2018 | H24: 2022 | I24: Ultimo consunti approvato
A25: SPESA DI PERSONALE RENDICONTO ANNO 2022 | C25: =H31 -> 1500529.2 | D25: definizione art. 2, comma 1, lett. a) | F25: 1.01 | G25: 1210980 | H25: 1500529.2
A26: ENTRATE RENDICONTO ANNO 2020 | B26: =F16 -> 12021050 | C26: =(B26+B27+B28)/3 -> 11762241 | D26: definizione art. 2, comma 1, lett. b) | E26: V° livello | F26: C. F. U1.03.02.12.001 | I26: Lavoro Interinale
A27: ENTRATE RENDICONTO ANNO 2021 | B27: =G16 -> 11715961 | E27: V° livello | F27: C. F. U1.03.02.12.002 | I27: LSU (Lavori socialmente utili)
A28: ENTRATE RENDICONTO ANNO 2022 | B28: =H16 -> 11549712 | E28: V° livello | F28: C. F. U1.03.02.12.003 | I28: Collaborazioni a progetto
A29: FCDE PREVISIONE ASSESTATA ANNO 2022 | C29: 881114.89 | E29: V° livello | F29: C. F. U1.03.02.12.999 | I29: Altre forme di lavoro flessibile
A30: RAPPORTO SPESA PERSONALE / ENTRATE CORRENTI (media dei tre anni -FCDE assestato ultimo rendiconto approvato) | C30: =C25/(C26-C29) -> 0.13790201 | E30: Cap. | F30: 101020508500 | G30: 38000 | I30: Trasf. Segretario
F31: Totale | G31: =SUM(G25:G30) -> 1248980 | H31: =SUM(H25:H30) -> 1500529.2
A32: 3) Raffronto % Ente con valori soglia tabelle 1 e 3 | D32: Ultimo anno FCDE assestato
A34: Caso A: Comune con % al di sotto del valore soglia più basso
C36: IMPORTI | D36: RIFERIMENTO D.P.C.M.
A37: SPESA DI PERSONALE ANNO 2022 | C37: =C25 -> 1500529.2 | D37: Art. 4, comma 2
A38: SPESA MASSIMA DI PERSONALE | C38: =('Calcolo capacità 2024'!C26-'Calcolo capacità 2024'!C29)*'Calcolo capacità 2024'!B8 -> 2959666.4
A39: INCREMENTO MASSIMO | C39: =C38-C37 -> 1459137.2
A41: Incremento annuo della spesa di personale fino al 2024:
A43: Fascia | B43: Popolazione | C43: Anno 2020 | D43: Anno 2021 | E43: Anno 2022 | F43: Anno 2023 | G43: Anno 2024
A44: a | B44: 0-999 | C44: 0.23 | D44: 0.29 | E44: 0.33 | F44: 0.34 | G44: 0.35
A45: b | B45: 1000-1999 | C45: 0.23 | D45: 0.29 | E45: 0.33 | F45: 0.34 | G45: 0.35
A46: c | B46: 2000-2999 | C46: 0.2 | D46: 0.25 | E46: 0.28 | F46: 0.29 | G46: 0.3
A47: d | B47: 3000-4999 | C47: 0.19 | D47: 0.24 | E47: 0.26 | F47: 0.27 | G47: 0.29
A48: e | B48: 5000-9999 | C48: 0.17 | D48: 0.21 | E48: 0.24 | F48: 0.25 | G48: 0.26
A49: f | B49: 10000-59999 | C49: 0.09 | D49: 0.16 | E49: 0.19 | F49: 0.21 | G49: 0.22
A50: g | B50: 60000-249999 | C50: 0.07 | D50: 0.12 | E50: 0.14 | F50: 0.15 | G50: 0.16
A51: h | B51: 250000-14999999 | C51: 0.03 | D51: 0.06 | E51: 0.08 | F51: 0.09 | G51: 0.1
A52: i | B52: 1500000> | C52: 0.015 | D52: 0.03 | E52: 0.04 | F52: 0.045 | G52: 0.05
A54: CALCOLO CAPACITA' ASSUNZIONALE | C54: VALORI | D54: RIFERIMENTO D.P.C.M.
A55: SPESA DI PERSONALE ANNO 2018 | C55: =G31 -> 1248980 | D55: Art. 5, comma 1
A56: % DI INCREMENTO ANNO 2022 | C56: 0.29 | F56: Utilizzo spazi assunzionali
A57: INCREMENTO ANNUO | C57: =C55*C56 -> 362204.21 | F57: Assunzioni dal 2020 | G57: ='Assunzioni TI dal 2020 - 2024'!C23 -> 324528.22
A58: RESTI ASSUNZIONALI ANNI 2015-2019 | C58: 78857.23 | D58: Art. 5, comma 2
A59: CAPACITA' ASSUNZIONALE ANNO 2022 | C59: =C57+C58 -> 441061.44 | F59: Capacità assunzionale rimanente
F60: =C59-G57 -> 116533.22
A61: Controllo limite (*):
B62: 2023 | C62: 1666117.9 | D62: Spesa personale da stanziamenti di Bilancio anno corrente escluso IRAP compreso assunzioni previste
A63: PROIEZIONE SPESA DI PERSONALE anno corrente | C63: =F60+C62 -> 1782651.1 | D63: più capacità assunzionale rimanente
A64: SPESA MASSIMA DI PERSONALE | C64: =C38 -> 2959666.4 | F64: VERIFICA RISPETTO: SI/NO
A65: DIFFERENZA | C65: =C63-C64 -> -1177015.2 | D65: DEVE ESSERE < O = A 0 | F65: =IF(C65<0,"SI","NO") -> SI
A66: (*) La spesa di personale dell'anno, comprensiva della capacità assunzionale consentita, non può superare la spesa massima art. 4, comma 1
A68: Caso B: Comune con % compresa tra i due valori soglia | F68: NON CONSIDERARE
C70: IMPORTI | D70: RIFERIMENTO D.P.C.M.
A71: SPESA DI PERSONALE ANNO 2019 | C71: =C25 -> 1500529.2 | D71: Art. 6, comma 3
A72: ENTRATE CORRENTI AL NETTO FCDE ANNO 2019 | C72: =(B28-C29) -> 10668597
A73: RAPPORTO SPESA PERSONALE/ENTRATE CORRENTI (VALORE LIMITE) | C73: =C71/C72 -> 0.14064915 | G73: 2020 | H73: Solo caso B
F74: Entrate correnti | G74: 9194472.9
A75: Controllo limite (*): | F75: FCDE | G75: -871055.77
C76: IMPORTI
A77: SPESA DI PERSONALE ANNO 2020 (PREVISIONE/CONSUNTIVO) | C77: =#REF! -> #REF! | G77: =SUM(G74:G76) -> 8323417.1
A78: ENTRATE CORRENTI AL NETTO FCDE ANNO 2020 (PREVISIONE/CONSUNTIVO) | C78: =G77 -> 8323417.1
A79: RAPPORTO SPESA PERSONALE/ENTRATE CORRENTI | C79: =C77/C78 -> #REF! | D79: DEVE ESSERE PARI O INFERIORE AL "VALORE LIMITE"
A80: (*) Il rapporto spesa personale/entrate correnti dell'anno di riferimento non può superare il medesimo rapporto registrato nell'ultimo rendiconto approvato
A82: Caso C: Comune con % al di sopra del valore soglia più alto
A84: Controllo limite (*):
C85: IMPORTI | D85: RIFERIMENTO D.P.C.M.
A86: SPESA DI PERSONALE ANNO 2020 (PREVISIONE/CONSUNTIVO) | C86: =#REF! -> #REF! | D86: Art. 6, commi 1 e 2
A87: ENTRATE CORRENTI AL NETTO FCDE ANNO 2020 (PREVISIONE/CONSUNTIVO) | C87: =C78 -> 8323417.1
A88: RAPPORTO SPESA PERSONALE/ENTRATE CORRENTI ANNO 2020 | C88: =C86/C87 -> #REF!
A89: RAPPORTO SPESA PERSONALE 2019 /ENTRATE CORRENTI 2017-2018-2019 AL NETTO FCDE | C89: =C30 -> 0.13790201
A90: VALORE SOGLIA PIU' ALTO | C90: =B9 -> 0.312
A91: (*) il rapporto spesa personale/entrate correnti deve essere gradualmente ridotto fino al conseguimento del valore soglia più alto entro il 2025

Sheet Calcolo capacità 2025
A1: CALCOLO CAPACITA' ASSUNZIONALI (ART. 33, COMMA 4, D.L. 34/2019 - D.P.C.M. 17/03/2020)
A3: 1) Individuazione dei valori soglia - art. 4, comma 1 e art. 6; tabelle 1 e 3 | F3: 2025
A5: COMUNE DI | B5: CAMPO NELL'ELBA
A6: POPOLAZIONE | B6: 4500
A7: FASCIA | B7: D
A8: VALORE SOGLIA PIU' BASSO | B8: 0.272
A9: VALORE SOGLIA PIU' ALTO | B9: 0.312
A11: Fascia | B11: Popolazione | C11: Tabella 1 (Valore soglia più basso) | D11: Tabella 3 (Valore soglia più alto) | F11: CALCOLI DA BILANCIO
A12: a | B12: 0-999 | C12: 0.295 | D12: 0.335 | E12: Entrate | F12: ='Calcolo capacità 2024'!F12 -> 2020 | G12: ='Calcolo capacità 2024'!G12 -> 2021 | H12: ='Calcolo capacità 2024'!H12 -> 2022
A13: b | B13: 1000-1999 | C13: 0.286 | D13: 0.326 | E13: 1 | F13: ='Calcolo capacità 2024'!F13 -> 8197839.1 | G13: ='Calcolo capacità 2024'!G13 -> 8316115.8 | H13: ='Calcolo capacità 2024'!H13 -> 8439457.2
A14: c | B14: 2000-2999 | C14: 0.276 | D14: 0.316 | E14: 2 | F14: ='Calcolo capacità 2024'!F14 -> 2604932.3 | G14: ='Calcolo capacità 2024'!G14 -> 1983397.8 | H14: ='Calcolo capacità 2024'!H14 -> 1482935.2
A15: d | B15: 3000-4999 | C15: 0.272 | D15: 0.312 | E15: 3 | F15: ='Calcolo capacità 2024'!F15 -> 1218279.1 | G15: ='Calcolo capacità 2024'!G15 -> 1416447.6 | H15: ='Calcolo capacità 2024'!H15 -> 1627319.6
A16: e | B16: 5000-9999 | C16: 0.269 | D16: 0.309 | E16: Totale | F16: =SUM(F13:F15) -> 12021050 | G16: =SUM(G13:G15) -> 11715961 | H16: =SUM(H13:H15) -> 11549712
A17: f | B17: 10000-59999 | C17: 0.27 | D17: 0.31 | F17: Media | G17: =SUM(F16:H16)/3 -> 11762241
A18: g | B18: 60000-249999 | C18: 0.276 | D18: 0.316
A19: h | B19: 250000-14999999 | C19: 0.288 | D19: 0.328
A20: i | B20: 1500000> | C20: 0.253 | D20: 0.293
H21: Colonna da aggiornare
A22: 2) Calcolo rapporto Spesa di personale su entrate correnti - art. 2 | G22: all'ultimo | H22: consuntivo approvato
G23: CALCOLI DA BILANCIO
B24: IMPORTI | D24: DEFINIZIONI | F24: Spese | G24: 2018 | H24: ='Calcolo capacità 2024'!H24 -> 2022
A25: SPESA DI PERSONALE RENDICONTO ANNO 2020 | C25: =H31 -> 1500529.2 | D25: definizione art. 2, comma 1, lett. a) | F25: 1.01 | G25: 1210980 | H25: ='Calcolo capacità 2024'!H25 -> 1500529.2
A26: ='Calcolo capacità 2024'!A26 -> ENTRATE RENDICONTO ANNO 2020 | B26: ='Calcolo capacità 2024'!B26 -> 12021050 | C26: =(B26+B27+B28)/3 -> 11762241 | D26: definizione art. 2, comma 1, lett. b) | F26: C. F. U1.03.02.12.001 | H26: ='Calcolo capacità 2024'!H26 -> 0 | I26: Lavoro Interinale
A27: ='Calcolo capacità 2024'!A27 -> ENTRATE RENDICONTO ANNO 2021 | B27: ='Calcolo capacità 2024'!B27 -> 11715961 | F27: C. F. U1.03.02.12.002 | H27: ='Calcolo capacità 2024'!H27 -> 0 | I27: LSU (Lavori socialmente utili)
A28: ='Calcolo capacità 2024'!A28 -> ENTRATE RENDICONTO ANNO 2022 | B28: ='Calcolo capacità 2024'!B28 -> 11549712 | F28: C. F. U1.03.02.12.003 | H28: ='Calcolo capacità 2024'!H28 -> 0 | I28: Collaborazioni a progetto
A29: ='Calcolo capacità 2024'!A29 -> FCDE PREVISIONE ASSESTATA ANNO 2022 | B29: ='Calcolo capacità 2024'!B29 -> 0 | C29: ='Calcolo capacità 2024'!C29 -> 881114.89 | F29: C. F. U1.03.02.12.999 | H29: ='Calcolo capacità 2024'!H29 -> 0 | I29: Altre forme di lavoro flessibile
A30: RAPPORTO SPESA PERSONALE / ENTRATE CORRENTI (media dei tre anni -FCDE assestato ultimo rendiconto approvato) | C30: =C25/(C26-C29) -> 0.13790201 | E30: Cap. | F30: 101020508500 | G30: 38000 | H30: ='Calcolo capacità 2024'!H30 -> 0 | I30: Trasf. Segretario
F31: Totale | G31: =SUM(G25:G30) -> 1248980 | H31: =SUM(H25:H30) -> 1500529.2
A32: 3) Raffronto % Ente con valori soglia tabelle 1 e 3
A34: Caso A: Comune con % al di sotto del valore soglia più basso
C36: IMPORTI | D36: RIFERIMENTO D.P.C.M.
A37: SPESA DI PERSONALE ANNO 2020 | C37: =C25 -> 1500529.2 | D37: Art. 4, comma 2
A38: SPESA MASSIMA DI PERSONALE | C38: =('Calcolo capacità 2025'!C26-'Calcolo capacità 2025'!C29)*'Calcolo capacità 2025'!B8 -> 2959666.4
A39: INCREMENTO MASSIMO | C39: =C38-C37 -> 1459137.2
A41: Incremento annuo della spesa di personale fino al 2024:
A43: Fascia | B43: Popolazione | C43: Anno 2020 | D43: Anno 2021 | E43: Anno 2022 | F43: Anno 2023 | G43: Anno 2024
A44: a | B44: 0-999 | C44: 0.23 | D44: 0.29 | E44: 0.33 | F44: 0.34 | G44: 0.35
A45: b | B45: 1000-1999 | C45: 0.23 | D45: 0.29 | E45: 0.33 | F45: 0.34 | G45: 0.35
A46: c | B46: 2000-2999 | C46: 0.2 | D46: 0.25 | E46: 0.28 | F46: 0.29 | G46: 0.3
A47: d | B47: 3000-4999 | C47: 0.19 | D47: 0.24 | E47: 0.26 | F47: 0.27 | G47: 0.29
A48: e | B48: 5000-9999 | C48: 0.17 | D48: 0.21 | E48: 0.24 | F48: 0.25 | G48: 0.26
A49: f | B49: 10000-59999 | C49: 0.09 | D49: 0.16 | E49: 0.19 | F49: 0.21 | G49: 0.22
A50: g | B50: 60000-249999 | C50: 0.07 | D50: 0.12 | E50: 0.14 | F50: 0.15 | G50: 0.16
A51: h | B51: 250000-14999999 | C51: 0.03 | D51: 0.06 | E51: 0.08 | F51: 0.09 | G51: 0.1
A52: i | B52: 1500000> | C52: 0.015 | D52: 0.03 | E52: 0.04 | F52: 0.045 | G52: 0.05
A54: CALCOLO CAPACITA' ASSUNZIONALE | C54: VALORI | D54: RIFERIMENTO D.P.C.M.
A55: SPESA DI PERSONALE ANNO 2018 | C55: =G31 -> 1248980 | D55: Art. 5, comma 1
A56: % DI INCREMENTO ANNO 2022 | C56: 0.29 | F56: Utilizzo spazi assunzionali
A57: INCREMENTO ANNUO | C57: =C55*C56 -> 362204.21 | F57: Assunzioni dal 2020 | G57: ='Assunzioni TI dal 2020 - 2025'!C23 -> 324528.22
A58: RESTI ASSUNZIONALI ANNI 2015-2019 | C58: 78857.23 | D58: Art. 5, comma 2
A59: CAPACITA' ASSUNZIONALE | C59: =C57+C58 -> 441061.44 | F59: Capacità assunzionale effettiva rimanente
F60: =C59-G57 -> 116533.22
A61: Controllo limite (*):
B62: 2024 | C62: 1668417.9 | D62: Spesa personale da stanziamenti di Bilancio anno corrente escluso IRAP compreso assunzioni previste
A63: PROIEZIONE SPESA DI PERSONALE ANNO 2021 | C63: =F60+C62 -> 1784951.1 | D63: più capacità assunzionale rimanente
A64: SPESA MASSIMA DI PERSONALE | C64: =C38 -> 2959666.4 | F64: VERIFICA RISPETTO: SI/NO
A65: DIFFERENZA | C65: =C63-C64 -> -1174715.2 | D65: DEVE ESSERE < O = A 0 | F65: =IF(C65<0,"SI","NO") -> SI
A66: (*) La spesa di personale dell'anno, comprensiva della capacità assunzionale consentita, non può superare la spesa massima art. 4, comma 1
A68: Caso B: Comune con % compresa tra i due valori soglia | F68: NON CONSIDERARE
C70: IMPORTI | D70: RIFERIMENTO D.P.C.M.
A71: SPESA DI PERSONALE ANNO 2019 | C71: =C25 -> 1500529.2 | D71: Art. 6, comma 3
A72: ENTRATE CORRENTI AL NETTO FCDE ANNO 2019 | C72: =(B28-C29) -> 10668597
A73: RAPPORTO SPESA PERSONALE/ENTRATE CORRENTI (VALORE LIMITE) | C73: =C71/C72 -> 0.14064915 | G73: 2020 | H73: Solo caso B
F74: Entrate correnti | G74: 9194472.9
A75: Controllo limite (*): | F75: FCDE | G75: -871055.77
C76: IMPORTI
A77: SPESA DI PERSONALE ANNO 2020 (PREVISIONE/CONSUNTIVO) | C77: =H28 -> 0 | G77: =SUM(G74:G76) -> 8323417.1
A78: ENTRATE CORRENTI AL NETTO FCDE ANNO 2020 (PREVISIONE/CONSUNTIVO) | C78: =G23 -> CALCOLI DA BILANCIO
A79: RAPPORTO SPESA PERSONALE/ENTRATE CORRENTI | C79: =C77/C78 -> #VALUE! | D79: DEVE ESSERE PARI O INFERIORE AL "VALORE LIMITE"
A80: (*) Il rapporto spesa personale/entrate correnti dell'anno di riferimento non può superare il medesimo rapporto registrato nell'ultimo rendiconto approvato
A82: Caso C: Comune con % al di sopra del valore soglia più alto
A84: Controllo limite (*):
C85: IMPORTI | D85: RIFERIMENTO D.P.C.M.
A86: SPESA DI PERSONALE ANNO 2020 (PREVISIONE/CONSUNTIVO) | C86: =H28 -> 0 | D86: Art. 6, commi 1 e 2
A87: ENTRATE CORRENTI AL NETTO FCDE ANNO 2020 (PREVISIONE/CONSUNTIVO) | C87: =C78 -> CALCOLI DA BILANCIO
A88: RAPPORTO SPESA PERSONALE/ENTRATE CORRENTI ANNO 2020 | C88: =C86/C87 -> #VALUE!
A89: RAPPORTO SPESA PERSONALE 2019 /ENTRATE CORRENTI 2017-2018-2019 AL NETTO FCDE | C89: =C30 -> 0.13790201
A90: VALORE SOGLIA PIU' ALTO | C90: =B9 -> 0.312
A91: (*) il rapporto spesa personale/entrate correnti deve essere gradualmente ridotto fino al conseguimento del valore soglia più alto entro il 2025

Sheet Calcolo capacità 2026
A1: CALCOLO CAPACITA' ASSUNZIONALI (ART. 33, COMMA 4, D.L. 34/2019 - D.P.C.M. 17/03/2020)
A3: 1) Individuazione dei valori soglia - art. 4, comma 1 e art. 6; tabelle 1 e 3 | F3: 2026
A5: COMUNE DI | B5: CAMPO NELL'ELBA
A6: POPOLAZIONE | B6: 4500
A7: FASCIA | B7: D
A8: VALORE SOGLIA PIU' BASSO | B8: 0.272
A9: VALORE SOGLIA PIU' ALTO | B9: 0.312
A11: Fascia | B11: Popolazione | C11: Tabella 1 (Valore soglia più basso) | D11: Tabella 3 (Valore soglia più alto) | F11: CALCOLI DA BILANCIO
A12: a | B12: 0-999 | C12: 0.295 | D12: 0.335 | E12: Entrate | F12: ='Calcolo capacità 2024'!F12 -> 2020 | G12: ='Calcolo capacità 2024'!G12 -> 2021 | H12: ='Calcolo capacità 2024'!H12 -> 2022
A13: b | B13: 1000-1999 | C13: 0.286 | D13: 0.326 | E13: 1 | F13: ='Calcolo capacità 2024'!F13 -> 8197839.1 | G13: ='Calcolo capacità 2024'!G13 -> 8316115.8 | H13: ='Calcolo capacità 2024'!H13 -> 8439457.2
A14: c | B14: 2000-2999 | C14: 0.276 | D14: 0.316 | E14: 2 | F14: ='Calcolo capacità 2024'!F14 -> 2604932.3 | G14: ='Calcolo capacità 2024'!G14 -> 1983397.8 | H14: ='Calcolo capacità 2024'!H14 -> 1482935.2
A15: d | B15: 3000-4999 | C15: 0.272 | D15: 0.312 | E15: 3 | F15: ='Calcolo capacità 2024'!F15 -> 1218279.1 | G15: ='Calcolo capacità 2024'!G15 -> 1416447.6 | H15: ='Calcolo capacità 2024'!H15 -> 1627319.6
A16: e | B16: 5000-9999 | C16: 0.269 | D16: 0.309 | E16: Totale | F16: =SUM(F13:F15) -> 12021050 | G16: =SUM(G13:G15) -> 11715961 | H16: =SUM(H13:H15) -> 11549712
A17: f | B17: 10000-59999 | C17: 0.27 | D17: 0.31 | F17: Media | G17: =SUM(F16:H16)/3 -> 11762241
A18: g | B18: 60000-249999 | C18: 0.276 | D18: 0.316
A19: h | B19: 250000-14999999 | C19: 0.288 | D19: 0.328
A20: i | B20: 1500000> | C20: 0.253 | D20: 0.293
H21: Colonna da aggiornare
A22: 2) Calcolo rapporto Spesa di personale su entrate correnti - art. 2 | G22: all'ultimo | H22: consuntivo approvato
G23: CALCOLI DA BILANCIO
B24: IMPORTI | D24: DEFINIZIONI | F24: Spese | G24: 2018 | H24: ='Calcolo capacità 2024'!H24 -> 2022
A25: SPESA DI PERSONALE RENDICONTO ANNO 2020 | C25: =H31 -> 1500529.2 | D25: definizione art. 2, comma 1, lett. a) | F25: 1.01 | G25: 1210980 | H25: ='Calcolo capacità 2024'!H25 -> 1500529.2
A26: ENTRATE RENDICONTO ANNO 2017 | B26: =F16 -> 12021050 | C26: =(B26+B27+B28)/3 -> 11762241 | D26: definizione art. 2, comma 1, lett. b) | F26: C. F. U1.03.02.12.001 | H26: ='Calcolo capacità 2024'!H26 -> 0 | I26: Lavoro Interinale
A27: ENTRATE RENDICONTO ANNO 2018 | B27: =G16 -> 11715961 | F27: C. F. U1.03.02.12.002 | H27: ='Calcolo capacità 2024'!H27 -> 0 | I27: LSU (Lavori socialmente utili)
A28: ENTRATE RENDICONTO ANNO 2019 | B28: =H16 -> 11549712 | F28: C. F. U1.03.02.12.003 | H28: ='Calcolo capacità 2024'!H28 -> 0 | I28: Collaborazioni a progetto
A29: ='Calcolo capacità 2024'!A29 -> FCDE PREVISIONE ASSESTATA ANNO 2022 | B29: ='Calcolo capacità 2024'!B29 -> 0 | C29: ='Calcolo capacità 2024'!C29 -> 881114.89 | F29: C. F. U1.03.02.12.999 | H29: ='Calcolo capacità 2024'!H29 -> 0 | I29: Altre forme di lavoro flessibile
A30: RAPPORTO SPESA PERSONALE / ENTRATE CORRENTI (media dei tre anni -FCDE assestato ultimo rendiconto approvato) | C30: =C25/(C26-C29) -> 0.13790201 | E30: Cap. | F30: 101020508500 | G30: 38000 | H30: ='Calcolo capacità 2024'!H30 -> 0 | I30: Trasf. Segretario
F31: Totale | G31: =SUM(G25:G30) -> 1248980 | H31: =SUM(H25:H30) -> 1500529.2
A32: 3) Raffronto % Ente con valori soglia tabelle 1 e 3
A34: Caso A: Comune con % al di sotto del valore soglia più basso
C36: IMPORTI | D36: RIFERIMENTO D.P.C.M.
A37: SPESA DI PERSONALE ANNO 2020 | C37: =C25 -> 1500529.2 | D37: Art. 4, comma 2
A38: SPESA MASSIMA DI PERSONALE | C38: =('Calcolo capacità 2026'!C26-'Calcolo capacità 2026'!C29)*'Calcolo capacità 2026'!B8 -> 2959666.4
A39: INCREMENTO MASSIMO | C39: =C38-C37 -> 1459137.2
A41: Incremento annuo della spesa di personale fino al 2024:
A43: Fascia | B43: Popolazione | C43: Anno 2020 | D43: Anno 2021 | E43: Anno 2022 | F43: Anno 2023 | G43: Anno 2024
A44: a | B44: 0-999 | C44: 0.23 | D44: 0.29 | E44: 0.33 | F44: 0.34 | G44: 0.35
A45: b | B45: 1000-1999 | C45: 0.23 | D45: 0.29 | E45: 0.33 | F45: 0.34 | G45: 0.35
A46: c | B46: 2000-2999 | C46: 0.2 | D46: 0.25 | E46: 0.28 | F46: 0.29 | G46: 0.3
A47: d | B47: 3000-4999 | C47: 0.19 | D47: 0.24 | E47: 0.26 | F47: 0.27 | G47: 0.29
A48: e | B48: 5000-9999 | C48: 0.17 | D48: 0.21 | E48: 0.24 | F48: 0.25 | G48: 0.26
A49: f | B49: 10000-59999 | C49: 0.09 | D49: 0.16 | E49: 0.19 | F49: 0.21 | G49: 0.22
A50: g | B50: 60000-249999 | C50: 0.07 | D50: 0.12 | E50: 0.14 | F50: 0.15 | G50: 0.16
A51: h | B51: 250000-14999999 | C51: 0.03 | D51: 0.06 | E51: 0.08 | F51: 0.09 | G51: 0.1
A52: i | B52: 1500000> | C52: 0.015 | D52: 0.03 | E52: 0.04 | F52: 0.045 | G52: 0.05
A54: CALCOLO CAPACITA' ASSUNZIONALE | C54: VALORI | D54: RIFERIMENTO D.P.C.M.
A55: SPESA DI PERSONALE ANNO 2018 | C55: =G31 -> 1248980 | D55: Art. 5, comma 1
A56: % DI INCREMENTO ANNO 2023 | C56: 0.29 | F56: Utilizzo spazi assunzionali
A57: INCREMENTO ANNUO | C57: =C55*C56 -> 362204.21 | F57: Assunzioni dal 2020 | G57: ='Assunzioni TI dal 2020 - 2026'!C23 -> 324528.22
A58: RESTI ASSUNZIONALI ANNI 2015-2019 | C58: 78857.23 | D58: Art. 5, comma 2
A59: CAPACITA' ASSUNZIONALE | C59: =C57+C58 -> 441061.44 | F59: Capacità assunzionale rimanente
F60: =C59-G57 -> 116533.22
A61: Controllo limite (*):
B62: 2025 | C62: 1659717.9 | D62: Spesa personale da stanziamenti di Bilancio anno corrente escluso IRAP compreso assunzioni previste
A63: PROIEZIONE SPESA DI PERSONALE ANNO 2020 | C63: =F60+C62 -> 1776251.1 | D63: più capacità assunzionale rimanente
A64: SPESA MASSIMA DI PERSONALE | C64: =C38 -> 2959666.4 | F64: VERIFICA RISPETTO: SI/NO
A65: DIFFERENZA | C65: =C63-C64 -> -1183415.2 | D65: DEVE ESSERE < O = A 0 | F65: =IF(C65<0,"SI","NO") -> SI
A66: (*) La spesa di personale dell'anno, comprensiva della capacità assunzionale consentita, non può superare la spesa massima art. 4, comma 1
A68: Caso B: Comune con % compresa tra i due valori soglia | F68: NON CONSIDERARE
C70: IMPORTI | D70: RIFERIMENTO D.P.C.M.
A71: SPESA DI PERSONALE ANNO 2019 | C71: =C25 -> 1500529.2 | D71: Art. 6, comma 3
A72: ENTRATE CORRENTI AL NETTO FCDE ANNO 2019 | C72: =(B28-C29) -> 10668597
A73: RAPPORTO SPESA PERSONALE/ENTRATE CORRENTI (VALORE LIMITE) | C73: =C71/C72 -> 0.14064915 | G73: 2020 | H73: Solo caso B
F74: Entrate correnti | G74: 9194472.9
A75: Controllo limite (*): | F75: FCDE | G75: -871055.77
C76: IMPORTI
A77: SPESA DI PERSONALE ANNO 2020 (PREVISIONE/CONSUNTIVO) | C77: =H28 -> 0 | G77: =SUM(G74:G76) -> 8323417.1
A78: ENTRATE CORRENTI AL NETTO FCDE ANNO 2020 (PREVISIONE/CONSUNTIVO) | C78: =G23 -> CALCOLI DA BILANCIO
A79: RAPPORTO SPESA PERSONALE/ENTRATE CORRENTI | C79: =C77/C78 -> #VALUE! | D79: DEVE ESSERE PARI O INFERIORE AL "VALORE LIMITE"
A80: (*) Il rapporto spesa personale/entrate correnti dell'anno di riferimento non può superare il medesimo rapporto registrato nell'ultimo rendiconto approvato
A82: Caso C: Comune con % al di sopra del valore soglia più alto
A84: Controllo limite (*):
C85: IMPORTI | D85: RIFERIMENTO D.P.C.M.
A86: SPESA DI PERSONALE ANNO 2020 (PREVISIONE/CONSUNTIVO) | C86: =H28 -> 0 | D86: Art. 6, commi 1 e 2
A87: ENTRATE CORRENTI AL NETTO FCDE ANNO 2020 (PREVISIONE/CONSUNTIVO) | C87: =C78 -> CALCOLI DA BILANCIO
A88: RAPPORTO SPESA PERSONALE/ENTRATE CORRENTI ANNO 2020 | C88: =C86/C87 -> #VALUE!
A89: RAPPORTO SPESA PERSONALE 2019 /ENTRATE CORRENTI 2017-2018-2019 AL NETTO FCDE | C89: =C30 -> 0.13790201
A90: VALORE SOGLIA PIU' ALTO | C90: =B9 -> 0.312
A91: (*) il rapporto spesa personale/entrate correnti deve essere gradualmente ridotto fino al conseguimento del valore soglia più alto entro il 2025

Sheet Assunzioni TI dal 2020 - 2024
A1: COMUNE DI CAMPO NELL'ELBA | E1: ANNO | G1: 2024
A3: CALCOLO SPESA ASSUNZIONI EFFETTUATE DAL 2020 AI SENSI DEL D.P.C.M. 17/3/2020 (Escluso IRAP)
A5: Progr. | B5: ANNO DI ASSUNZIONE | C5: Dipendente (Cognome e nome) | D5: AREA | E5: Mesi | F5: Part-time (%) | G5: Retribuzione (12 mensilità) (a) | H5: Tredicesima (b) | I5: Indennità di comparto (c) | J5: Indennità di vacanza contrattuale (d) | L5: TOTALE RETRIBUZIONE | M5: Imponibile C.P.D.E.L. | N5: Imponibile TFR-S | O5: CPDEL | P5: TFR-S | Q5: TOTALE CPDEL | R5: TOTALE TFR-S
A6: 1 | B6: 2020 | C6: TACCHELLA STEFANO | D6: ISTRUTTORI | E6: 12 | F6: 1 | G6: =IF($D6="","",IF($F6="",VLOOKUP($D6,Tabelle!$A:$E,2,FALSE),VLOOKUP($D6,Tabelle!$A:$E,2,FALSE)*$F6))/12*$E6 -> 21392.87 | H6: =IF($D6="","",IF($F6="",VLOOKUP($D6,Tabelle!$A:$E,3,FALSE),VLOOKUP($D6,Tabelle!$A:$E,3,FALSE)*$F6))/12*$E6 -> 1782.74 | I6: =IF($D6="","",IF($F6="",VLOOKUP($D6,Tabelle!$A:$E,4,FALSE),VLOOKUP($D6,Tabelle!$A:$E,4,FALSE)*$F6))/12*$E6 -> 52.08 | J6: =IF($D6="","",IF($F6="",VLOOKUP($D6,Tabelle!$A:$E,5,FALSE),VLOOKUP($D6,Tabelle!$A:$E,5,FALSE)*$F6))/12*$E6 -> 115.87805 | K6: =IF($D6="","",IF($F6="",VLOOKUP($D6,Tabelle!$A:$F,6,FALSE),VLOOKUP($D6,Tabelle!$A:$F,6,FALSE)*$F6))/12*$E6 -> 0 | L6: =SUM(G6:K6) -> 23343.568 | M6: =L6 -> 23343.568 | N6: =IF(L6=0,"",L6-I6) -> 23291.488 | O6: =ROUND(M6*23.8%,2) -> 5555.77 | P6: =IF(L6=0,"",N6*2.88%) -> 670.79486 | Q6: =IF(L6=0,"",O6) -> 5555.77 | R6: =IF(M6=0,"",P6) -> 670.79486
A7: 2 | B7: 2021 | C7: GELSI SIMONE | D7: ISTRUTTORI | E7: 12 | F7: 1 | G7: =IF($D7="","",IF($F7="",VLOOKUP($D7,Tabelle!$A:$E,2,FALSE),VLOOKUP($D7,Tabelle!$A:$E,2,FALSE)*$F7))/12*$E7 -> 21392.87 | H7: =IF($D7="","",IF($F7="",VLOOKUP($D7,Tabelle!$A:$E,3,FALSE),VLOOKUP($D7,Tabelle!$A:$E,3,FALSE)*$F7))/12*$E7 -> 1782.74 | I7: =IF($D7="","",IF($F7="",VLOOKUP($D7,Tabelle!$A:$E,4,FALSE),VLOOKUP($D7,Tabelle!$A:$E,4,FALSE)*$F7))/12*$E7 -> 52.08 | J7: =IF($D7="","",IF($F7="",VLOOKUP($D7,Tabelle!$A:$E,5,FALSE),VLOOKUP($D7,Tabelle!$A:$E,5,FALSE)*$F7))/12*$E7 -> 115.87805 | K7: =IF($D7="","",IF($F7="",VLOOKUP($D7,Tabelle!$A:$F,6,FALSE),VLOOKUP($D7,Tabelle!$A:$F,6,FALSE)*$F7))/12*$E7 -> 0 | L7: =SUM(G7:K7) -> 23343.568 | M7: =L7 -> 23343.568 | N7: =IF(L7=0,"",L7-I7) -> 23291.488 | O7: =ROUND(M7*23.8%,2) -> 5555.77 | P7: =IF(L7=0,"",N7*2.88%) -> 670.79486 | Q7: =IF(L7=0,"",O7) -> 5555.77 | R7: =IF(M7=0,"",P7) -> 670.79486
A8: 3 | B8: 2021 | C8: TESTI MASSIMILIANO | D8: ISTRUTTORI | E8: 12 | F8: 1 | G8: =IF($D8="","",IF($F8="",VLOOKUP($D8,Tabelle!$A:$E,2,FALSE),VLOOKUP($D8,Tabelle!$A:$E,2,FALSE)*$F8))/12*$E8 -> 21392.87 | H8: =IF($D8="","",IF($F8="",VLOOKUP($D8,Tabelle!$A:$E,3,FALSE),VLOOKUP($D8,Tabelle!$A:$E,3,FALSE)*$F8))/12*$E8 -> 1782.74 | I8: =IF($D8="","",IF($F8="",VLOOKUP($D8,Tabelle!$A:$E,4,FALSE),VLOOKUP($D8,Tabelle!$A:$E,4,FALSE)*$F8))/12*$E8 -> 52.08 | J8: =IF($D8="","",IF($F8="",VLOOKUP($D8,Tabelle!$A:$E,5,FALSE),VLOOKUP($D8,Tabelle!$A:$E,5,FALSE)*$F8))/12*$E8 -> 115.87805 | K8: =IF($D8="","",IF($F8="",VLOOKUP($D8,Tabelle!$A:$F,6,FALSE),VLOOKUP($D8,Tabelle!$A:$F,6,FALSE)*$F8))/12*$E8 -> 0 | L8: =SUM(G8:K8) -> 23343.568 | M8: =L8 -> 23343.568 | N8: =IF(L8=0,"",L8-I8) -> 23291.488 | O8: =ROUND(M8*23.8%,2) -> 5555.77 | P8: =IF(L8=0,"",N8*2.88%) -> 670.79486 | Q8: =IF(L8=0,"",O8) -> 5555.77 | R8: =IF(M8=0,"",P8) -> 670.79486
A9: 4 | B9: 2022 | C9: GALLI MARIA CRISTINA | D9: ISTRUTTORI | E9: 12 | F9: 1 | G9: =IF($D9="","",IF($F9="",VLOOKUP($D9,Tabelle!$A:$E,2,FALSE),VLOOKUP($D9,Tabelle!$A:$E,2,FALSE)*$F9))/12*$E9 -> 21392.87 | H9: =IF($D9="","",IF($F9="",VLOOKUP($D9,Tabelle!$A:$E,3,FALSE),VLOOKUP($D9,Tabelle!$A:$E,3,FALSE)*$F9))/12*$E9 -> 1782.74 | I9: =IF($D9="","",IF($F9="",VLOOKUP($D9,Tabelle!$A:$E,4,FALSE),VLOOKUP($D9,Tabelle!$A:$E,4,FALSE)*$F9))/12*$E9 -> 52.08 | J9: =IF($D9="","",IF($F9="",VLOOKUP($D9,Tabelle!$A:$E,5,FALSE),VLOOKUP($D9,Tabelle!$A:$E,5,FALSE)*$F9))/12*$E9 -> 115.87805 | K9: =IF($D9="","",IF($F9="",VLOOKUP($D9,Tabelle!$A:$F,6,FALSE),VLOOKUP($D9,Tabelle!$A:$F,6,FALSE)*$F9))/12*$E9 -> 0 | L9: =SUM(G9:K9) -> 23343.568 | M9: =L9 -> 23343.568 | N9: =IF(L9=0,"",L9-I9) -> 23291.488 | O9: =ROUND(M9*23.8%,2) -> 5555.77 | P9: =IF(L9=0,"",N9*2.88%) -> 670.79486 | Q9: =IF(L9=0,"",O9) -> 5555.77 | R9: =IF(M9=0,"",P9) -> 670.79486
A10: 5 | B10: 2022 | C10: CORSI FRANCESCO | D10: ISTRUTTORI | E10: 12 | F10: 1 | G10: =IF($D10="","",IF($F10="",VLOOKUP($D10,Tabelle!$A:$E,2,FALSE),VLOOKUP($D10,Tabelle!$A:$E,2,FALSE)*$F10))/12*$E10 -> 21392.87 | H10: =IF($D10="","",IF($F10="",VLOOKUP($D10,Tabelle!$A:$E,3,FALSE),VLOOKUP($D10,Tabelle!$A:$E,3,FALSE)*$F10))/12*$E10 -> 1782.74 | I10: =IF($D10="","",IF($F10="",VLOOKUP($D10,Tabelle!$A:$E,4,FALSE),VLOOKUP($D10,Tabelle!$A:$E,4,FALSE)*$F10))/12*$E10 -> 52.08 | J10: =IF($D10="","",IF($F10="",VLOOKUP($D10,Tabelle!$A:$E,5,FALSE),VLOOKUP($D10,Tabelle!$A:$E,5,FALSE)*$F10))/12*$E10 -> 115.87805 | K10: =IF($D10="","",IF($F10="",VLOOKUP($D10,Tabelle!$A:$F,6,FALSE),VLOOKUP($D10,Tabelle!$A:$F,6,FALSE)*$F10))/12*$E10 -> 0 | L10: =SUM(G10:K10) -> 23343.568 | M10: =L10 -> 23343.568 | N10: =IF(L10=0,"",L10-I10) -> 23291.488 | O10: =ROUND(M10*23.8%,2) -> 5555.77 | P10: =IF(L10=0,"",N10*2.88%) -> 670.79486 | Q10: =IF(L10=0,"",O10) -> 5555.77 | R10: =IF(M10=0,"",P10) -> 670.79486
A11: 6 | B11: 2022 | C11: FERRINI FRANCESCA | D11: ISTRUTTORI | E11: 12 | F11: 1 | G11: =IF($D11="","",IF($F11="",VLOOKUP($D11,Tabelle!$A:$E,2,FALSE),VLOOKUP($D11,Tabelle!$A:$E,2,FALSE)*$F11))/12*$E11 -> 21392.87 | H11: =IF($D11="","",IF($F11="",VLOOKUP($D11,Tabelle!$A:$E,3,FALSE),VLOOKUP($D11,Tabelle!$A:$E,3,FALSE)*$F11))/12*$E11 -> 1782.74 | I11: =IF($D11="","",IF($F11="",VLOOKUP($D11,Tabelle!$A:$E,4,FALSE),VLOOKUP($D11,Tabelle!$A:$E,4,FALSE)*$F11))/12*$E11 -> 52.08 | J11: =IF($D11="","",IF($F11="",VLOOKUP($D11,Tabelle!$A:$E,5,FALSE),VLOOKUP($D11,Tabelle!$A:$E,5,FALSE)*$F11))/12*$E11 -> 115.87805 | K11: =IF($D11="","",IF($F11="",VLOOKUP($D11,Tabelle!$A:$F,6,FALSE),VLOOKUP($D11,Tabelle!$A:$F,6,FALSE)*$F11))/12*$E11 -> 0 | L11: =SUM(G11:K11) -> 23343.568 | M11: =L11 -> 23343.568 | N11: =IF(L11=0,"",L11-I11) -> 23291.488 | O11: =ROUND(M11*23.8%,2) -> 5555.77 | P11: =IF(L11=0,"",N11*2.88%) -> 670.79486 | Q11: =IF(L11=0,"",O11) -> 5555.77 | R11: =IF(M11=0,"",P11) -> 670.79486
A12: 7 | B12: 2022 | C12: MAZZEI EMANUELE | D12: OPERATORI ESPERTI | E12: 12 | F12: 1 | G12: =IF($D12="","",IF($F12="",VLOOKUP($D12,Tabelle!$A:$E,2,FALSE),VLOOKUP($D12,Tabelle!$A:$E,2,FALSE)*$F12))/12*$E12 -> 19034.51 | H12: =IF($D12="","",IF($F12="",VLOOKUP($D12,Tabelle!$A:$E,3,FALSE),VLOOKUP($D12,Tabelle!$A:$E,3,FALSE)*$F12))/12*$E12 -> 1586.21 | I12: =IF($D12="","",IF($F12="",VLOOKUP($D12,Tabelle!$A:$E,4,FALSE),VLOOKUP($D12,Tabelle!$A:$E,4,FALSE)*$F12))/12*$E12 -> 44.76 | J12: =IF($D12="","",IF($F12="",VLOOKUP($D12,Tabelle!$A:$E,5,FALSE),VLOOKUP($D12,Tabelle!$A:$E,5,FALSE)*$F12))/12*$E12 -> 103.1036 | K12: =IF($D12="","",IF($F12="",VLOOKUP($D12,Tabelle!$A:$F,6,FALSE),VLOOKUP($D12,Tabelle!$A:$F,6,FALSE)*$F12))/12*$E12 -> 0 | L12: =SUM(G12:K12) -> 20768.584 | M12: =L12 -> 20768.584 | N12: =IF(L12=0,"",L12-I12) -> 20723.824 | O12: =ROUND(M12*23.8%,2) -> 4942.92 | P12: =IF(L12=0,"",N12*2.88%) -> 596.84612 | Q12: =IF(L12=0,"",O12) -> 4942.92 | R12: =IF(M12=0,"",P12) -> 596.84612
A13: 8 | B13: 2023 | C13: RAINO' CHIARA | D13: ISTRUTTORI | E13: 12 | F13: 1 | G13: =IF($D13="","",IF($F13="",VLOOKUP($D13,Tabelle!$A:$E,2,FALSE),VLOOKUP($D13,Tabelle!$A:$E,2,FALSE)*$F13))/12*$E13 -> 21392.87 | H13: =IF($D13="","",IF($F13="",VLOOKUP($D13,Tabelle!$A:$E,3,FALSE),VLOOKUP($D13,Tabelle!$A:$E,3,FALSE)*$F13))/12*$E13 -> 1782.74 | I13: =IF($D13="","",IF($F13="",VLOOKUP($D13,Tabelle!$A:$E,4,FALSE),VLOOKUP($D13,Tabelle!$A:$E,4,FALSE)*$F13))/12*$E13 -> 52.08 | J13: =IF($D13="","",IF($F13="",VLOOKUP($D13,Tabelle!$A:$E,5,FALSE),VLOOKUP($D13,Tabelle!$A:$E,5,FALSE)*$F13))/12*$E13 -> 115.87805 | K13: =IF($D13="","",IF($F13="",VLOOKUP($D13,Tabelle!$A:$F,6,FALSE),VLOOKUP($D13,Tabelle!$A:$F,6,FALSE)*$F13))/12*$E13 -> 0 | L13: =SUM(G13:K13) -> 23343.568 | M13: =L13 -> 23343.568 | N13: =IF(L13=0,"",L13-I13) -> 23291.488 | O13: =ROUND(M13*23.8%,2) -> 5555.77 | P13: =IF(L13=0,"",N13*2.88%) -> 670.79486 | Q13: =IF(L13=0,"",O13) -> 5555.77 | R13: =IF(M13=0,"",P13) -> 670.79486
A14: 9 | B14: 2023 | C14: FIORINO GABRIELLA | D14: ISTRUTTORI | E14: 12 | F14: 1 | G14: =IF($D14="","",IF($F14="",VLOOKUP($D14,Tabelle!$A:$E,2,FALSE),VLOOKUP($D14,Tabelle!$A:$E,2,FALSE)*$F14))/12*$E14 -> 21392.87 | H14: =IF($D14="","",IF($F14="",VLOOKUP($D14,Tabelle!$A:$E,3,FALSE),VLOOKUP($D14,Tabelle!$A:$E,3,FALSE)*$F14))/12*$E14 -> 1782.74 | I14: =IF($D14="","",IF($F14="",VLOOKUP($D14,Tabelle!$A:$E,4,FALSE),VLOOKUP($D14,Tabelle!$A:$E,4,FALSE)*$F14))/12*$E14 -> 52.08 | J14: =IF($D14="","",IF($F14="",VLOOKUP($D14,Tabelle!$A:$E,5,FALSE),VLOOKUP($D14,Tabelle!$A:$E,5,FALSE)*$F14))/12*$E14 -> 115.87805 | K14: =IF($D14="","",IF($F14="",VLOOKUP($D14,Tabelle!$A:$F,6,FALSE),VLOOKUP($D14,Tabelle!$A:$F,6,FALSE)*$F14))/12*$E14 -> 0 | L14: =SUM(G14:K14) -> 23343.568 | M14: =L14 -> 23343.568 | N14: =IF(L14=0,"",L14-I14) -> 23291.488 | O14: =ROUND(M14*23.8%,2) -> 5555.77 | P14: =IF(L14=0,"",N14*2.88%) -> 670.79486 | Q14: =IF(L14=0,"",O14) -> 5555.77 | R14: =IF(M14=0,"",P14) -> 670.79486
A15: 10 | B15: 2024 | C15: SCORR. GRADUATORIA | D15: ISTRUTTORI | E15: 12 | F15: 1 | G15: =IF($D15="","",IF($F15="",VLOOKUP($D15,Tabelle!$A:$E,2,FALSE),VLOOKUP($D15,Tabelle!$A:$E,2,FALSE)*$F15))/12*$E15 -> 21392.87 | H15: =IF($D15="","",IF($F15="",VLOOKUP($D15,Tabelle!$A:$E,3,FALSE),VLOOKUP($D15,Tabelle!$A:$E,3,FALSE)*$F15))/12*$E15 -> 1782.74 | I15: =IF($D15="","",IF($F15="",VLOOKUP($D15,Tabelle!$A:$E,4,FALSE),VLOOKUP($D15,Tabelle!$A:$E,4,FALSE)*$F15))/12*$E15 -> 52.08 | J15: =IF($D15="","",IF($F15="",VLOOKUP($D15,Tabelle!$A:$E,5,FALSE),VLOOKUP($D15,Tabelle!$A:$E,5,FALSE)*$F15))/12*$E15 -> 115.87805 | K15: =IF($D15="","",IF($F15="",VLOOKUP($D15,Tabelle!$A:$F,6,FALSE),VLOOKUP($D15,Tabelle!$A:$F,6,FALSE)*$F15))/12*$E15 -> 0 | L15: =SUM(G15:K15) -> 23343.568 | M15: =L15 -> 23343.568 | N15: =IF(L15=0,"",L15-I15) -> 23291.488 | O15: =ROUND(M15*23.8%,2) -> 5555.77 | P15: =IF(L15=0,"",N15*2.88%) -> 670.79486 | Q15: =IF(L15=0,"",O15) -> 5555.77 | R15: =IF(M15=0,"",P15) -> 670.79486
A16: 11 | B16: 2024 | C16: CONCORSO/MOBILITA' | D16: FUNZIONARI | E16: 12 | F16: 1 | G16: =IF($D16="","",IF($F16="",VLOOKUP($D16,Tabelle!$A:$E,2,FALSE),VLOOKUP($D16,Tabelle!$A:$E,2,FALSE)*$F16))/12*$E16 -> 23212.35 | H16: =IF($D16="","",IF($F16="",VLOOKUP($D16,Tabelle!$A:$E,3,FALSE),VLOOKUP($D16,Tabelle!$A:$E,3,FALSE)*$F16))/12*$E16 -> 1934.36 | I16: =IF($D16="","",IF($F16="",VLOOKUP($D16,Tabelle!$A:$E,4,FALSE),VLOOKUP($D16,Tabelle!$A:$E,4,FALSE)*$F16))/12*$E16 -> 59.4 | J16: =IF($D16="","",IF($F16="",VLOOKUP($D16,Tabelle!$A:$E,5,FALSE),VLOOKUP($D16,Tabelle!$A:$E,5,FALSE)*$F16))/12*$E16 -> 125.73355 | K16: =IF($D16="","",IF($F16="",VLOOKUP($D16,Tabelle!$A:$F,6,FALSE),VLOOKUP($D16,Tabelle!$A:$F,6,FALSE)*$F16))/12*$E16 -> 0 | L16: =SUM(G16:K16) -> 25331.844 | M16: =L16 -> 25331.844 | N16: =IF(L16=0,"",L16-I16) -> 25272.444 | O16: =ROUND(M16*23.8%,2) -> 6028.98 | P16: =IF(L16=0,"",N16*2.88%) -> 727.84637 | Q16: =IF(L16=0,"",O16) -> 6028.98 | R16: =IF(M16=0,"",P16) -> 727.84637
A17: 12 | D17: ISTRUTTORI | F17: 1 | G17: =IF($D17="","",IF($F17="",VLOOKUP($D17,Tabelle!$A:$E,2,FALSE),VLOOKUP($D17,Tabelle!$A:$E,2,FALSE)*$F17))/12*$E17 -> 0 | H17: =IF($D17="","",IF($F17="",VLOOKUP($D17,Tabelle!$A:$E,3,FALSE),VLOOKUP($D17,Tabelle!$A:$E,3,FALSE)*$F17))/12*$E17 -> 0 | I17: =IF($D17="","",IF($F17="",VLOOKUP($D17,Tabelle!$A:$E,4,FALSE),VLOOKUP($D17,Tabelle!$A:$E,4,FALSE)*$F17))/12*$E17 -> 0 | J17: =IF($D17="","",IF($F17="",VLOOKUP($D17,Tabelle!$A:$E,5,FALSE),VLOOKUP($D17,Tabelle!$A:$E,5,FALSE)*$F17))/12*$E17 -> 0 | K17: =IF($D17="","",IF($F17="",VLOOKUP($D17,Tabelle!$A:$F,6,FALSE),VLOOKUP($D17,Tabelle!$A:$F,6,FALSE)*$F17))/12*$E17 -> 0 | L17: =SUM(G17:K17) -> 0 | M17: =L17 -> 0 | N17: =IF(L17=0,"",L17-I17) | O17: =ROUND(M17*23.8%,2) -> 0 | P17: =IF(L17=0,"",N17*2.88%) | Q17: =IF(L17=0,"",O17) | R17: =IF(M17=0,"",P17)
A18: 13 | D18: ISTRUTTORI | F18: 1 | G18: =IF($D18="","",IF($F18="",VLOOKUP($D18,Tabelle!$A:$E,2,FALSE),VLOOKUP($D18,Tabelle!$A:$E,2,FALSE)*$F18))/12*$E18 -> 0 | H18: =IF($D18="","",IF($F18="",VLOOKUP($D18,Tabelle!$A:$E,3,FALSE),VLOOKUP($D18,Tabelle!$A:$E,3,FALSE)*$F18))/12*$E18 -> 0 | I18: =IF($D18="","",IF($F18="",VLOOKUP($D18,Tabelle!$A:$E,4,FALSE),VLOOKUP($D18,Tabelle!$A:$E,4,FALSE)*$F18))/12*$E18 -> 0 | J18: =IF($D18="","",IF($F18="",VLOOKUP($D18,Tabelle!$A:$E,5,FALSE),VLOOKUP($D18,Tabelle!$A:$E,5,FALSE)*$F18))/12*$E18 -> 0 | K18: =IF($D18="","",IF($F18="",VLOOKUP($D18,Tabelle!$A:$F,6,FALSE),VLOOKUP($D18,Tabelle!$A:$F,6,FALSE)*$F18))/12*$E18 -> 0 | L18: =SUM(G18:K18) -> 0 | M18: =L18 -> 0 | N18: =IF(L18=0,"",L18-I18) | O18: =ROUND(M18*23.8%,2) -> 0 | P18: =IF(L18=0,"",N18*2.88%) | Q18: =IF(L18=0,"",O18) | R18: =IF(M18=0,"",P18)
A19: 14 | D19: ISTRUTTORI | F19: 1 | G19: =IF($D19="","",IF($F19="",VLOOKUP($D19,Tabelle!$A:$E,2,FALSE),VLOOKUP($D19,Tabelle!$A:$E,2,FALSE)*$F19))/12*$E19 -> 0 | H19: =IF($D19="","",IF($F19="",VLOOKUP($D19,Tabelle!$A:$E,3,FALSE),VLOOKUP($D19,Tabelle!$A:$E,3,FALSE)*$F19))/12*$E19 -> 0 | I19: =IF($D19="","",IF($F19="",VLOOKUP($D19,Tabelle!$A:$E,4,FALSE),VLOOKUP($D19,Tabelle!$A:$E,4,FALSE)*$F19))/12*$E19 -> 0 | J19: =IF($D19="","",IF($F19="",VLOOKUP($D19,Tabelle!$A:$E,5,FALSE),VLOOKUP($D19,Tabelle!$A:$E,5,FALSE)*$F19))/12*$E19 -> 0 | K19: =IF($D19="","",IF($F19="",VLOOKUP($D19,Tabelle!$A:$F,6,FALSE),VLOOKUP($D19,Tabelle!$A:$F,6,FALSE)*$F19))/12*$E19 -> 0 | L19: =SUM(G19:K19) -> 0 | M19: =L19 -> 0 | N19: =IF(L19=0,"",L19-I19) | O19: =ROUND(M19*23.8%,2) -> 0 | P19: =IF(L19=0,"",N19*2.88%) | Q19: =IF(L19=0,"",O19) | R19: =IF(M19=0,"",P19)
A20: 15 | D20: ISTRUTTORI | F20: 1 | G20: =IF($D20="","",IF($F20="",VLOOKUP($D20,Tabelle!$A:$E,2,FALSE),VLOOKUP($D20,Tabelle!$A:$E,2,FALSE)*$F20))/12*$E20 -> 0 | H20: =IF($D20="","",IF($F20="",VLOOKUP($D20,Tabelle!$A:$E,3,FALSE),VLOOKUP($D20,Tabelle!$A:$E,3,FALSE)*$F20))/12*$E20 -> 0 | I20: =IF($D20="","",IF($F20="",VLOOKUP($D20,Tabelle!$A:$E,4,FALSE),VLOOKUP($D20,Tabelle!$A:$E,4,FALSE)*$F20))/12*$E20 -> 0 | J20: =IF($D20="","",IF($F20="",VLOOKUP($D20,Tabelle!$A:$E,5,FALSE),VLOOKUP($D20,Tabelle!$A:$E,5,FALSE)*$F20))/12*$E20 -> 0 | K20: =IF($D20="","",IF($F20="",VLOOKUP($D20,Tabelle!$A:$F,6,FALSE),VLOOKUP($D20,Tabelle!$A:$F,6,FALSE)*$F20))/12*$E20 -> 0 | L20: =SUM(G20:K20) -> 0 | M20: =L20 -> 0 | N20: =IF(L20=0,"",L20-I20) | O20: =ROUND(M20*23.8%,2) -> 0 | P20: =IF(L20=0,"",N20*2.88%) | Q20: =IF(L20=0,"",O20) | R20: =IF(M20=0,"",P20)
A21: 16 | D21: ISTRUTTORI | F21: 1 | G21: =IF($D21="","",IF($F21="",VLOOKUP($D21,Tabelle!$A:$E,2,FALSE),VLOOKUP($D21,Tabelle!$A:$E,2,FALSE)*$F21))/12*$E21 -> 0 | H21: =IF($D21="","",IF($F21="",VLOOKUP($D21,Tabelle!$A:$E,3,FALSE),VLOOKUP($D21,Tabelle!$A:$E,3,FALSE)*$F21))/12*$E21 -> 0 | I21: =IF($D21="","",IF($F21="",VLOOKUP($D21,Tabelle!$A:$E,4,FALSE),VLOOKUP($D21,Tabelle!$A:$E,4,FALSE)*$F21))/12*$E21 -> 0 | J21: =IF($D21="","",IF($F21="",VLOOKUP($D21,Tabelle!$A:$E,5,FALSE),VLOOKUP($D21,Tabelle!$A:$E,5,FALSE)*$F21))/12*$E21 -> 0 | K21: =IF($D21="","",IF($F21="",VLOOKUP($D21,Tabelle!$A:$F,6,FALSE),VLOOKUP($D21,Tabelle!$A:$F,6,FALSE)*$F21))/12*$E21 -> 0 | L21: =SUM(G21:K21) -> 0 | M21: =L21 -> 0 | N21: =IF(L21=0,"",L21-I21) | O21: =ROUND(M21*23.8%,2) -> 0 | P21: =IF(L21=0,"",N21*2.88%) | Q21: =IF(L21=0,"",O21) | R21: =IF(M21=0,"",P21)
L22: =SUM(L6:L21) -> 256192.54 | Q22: =SUM(Q6:Q21) -> 60973.83 | R22: =SUM(R6:R21) -> 7361.8462
B23: TOTALE | C23: =L22+Q22+R22 -> 324528.22 | D23: =C23/G23 -> 29502.565 | E23: MEDIA UNITA' | G23: =COUNTIF(E6:E21,"12") -> 11 | H23: UNITA' TOTALI
B25: IRAP | C25: =L22*8.5% -> 21776.366 | D25: =(L22/G23)*8.5% -> 1979.6696 | G25: ='Diff.pers.2018-corrente'!B10-'Diff.pers.2018-corrente'!B4 -> 1 | H25: DIFFERENZA UNITA' ANNO DI RIFERIMENTO RISPETTO AL 2018
C27: =C23+C25 -> 346304.58 | D27: =D23+D25 -> 31482.235 | E27: TOTALE CON IRAP
D29: =D23*G25 -> 29502.565 | E29: MAGGIORE SPESA PER PERSONALE A TEMPO INDETERMINATO RISPETTO AL 2018
D31: =D25*G25 -> 1979.6696 | E31: IRAP
D33: =D29+D31 -> 31482.235

Sheet Assunzioni TI dal 2020 - 2025
A1: COMUNE DI CAMPO NELL'ELBA | E1: ANNO | G1: 2025
A3: CALCOLO SPESA ASSUNZIONI EFFETTUATE DAL 2020 AI SENSI DEL D.P.C.M. 17/3/2020 (Escluso IRAP)
A5: Progr. | B5: ANNO DI ASSUNZIONE | C5: Dipendente (Cognome e nome) | D5: AREA | E5: Mesi | F5: Part-time (%) | G5: Retribuzione (12 mensilità) (a) | H5: Tredicesima (b) | I5: Indennità di comparto (c) | J5: Indennità di vacanza contrattuale (d) | L5: TOTALE RETRIBUZIONE | M5: Imponibile C.P.D.E.L. | N5: Imponibile TFR-S | O5: CPDEL | P5: TFR-S | Q5: TOTALE CPDEL | R5: TOTALE TFR-S
A6: 1 | B6: 2020 | C6: TECCHELLA STEFANO | D6: ISTRUTTORI | E6: 12 | F6: 1 | G6: =IF($D6="","",IF($F6="",VLOOKUP($D6,Tabelle!$A:$E,2,FALSE),VLOOKUP($D6,Tabelle!$A:$E,2,FALSE)*$F6))/12*$E6 -> 21392.87 | H6: =IF($D6="","",IF($F6="",VLOOKUP($D6,Tabelle!$A:$E,3,FALSE),VLOOKUP($D6,Tabelle!$A:$E,3,FALSE)*$F6))/12*$E6 -> 1782.74 | I6: =IF($D6="","",IF($F6="",VLOOKUP($D6,Tabelle!$A:$E,4,FALSE),VLOOKUP($D6,Tabelle!$A:$E,4,FALSE)*$F6))/12*$E6 -> 52.08 | J6: =IF($D6="","",IF($F6="",VLOOKUP($D6,Tabelle!$A:$E,5,FALSE),VLOOKUP($D6,Tabelle!$A:$E,5,FALSE)*$F6))/12*$E6 -> 115.87805 | K6: =IF($D6="","",IF($F6="",VLOOKUP($D6,Tabelle!$A:$F,6,FALSE),VLOOKUP($D6,Tabelle!$A:$F,6,FALSE)*$F6))/12*$E6 -> 0 | L6: =SUM(G6:K6) -> 23343.568 | M6: =L6 -> 23343.568 | N6: =IF(L6=0,"",L6-I6) -> 23291.488 | O6: =ROUND(M6*23.8%,2) -> 5555.77 | P6: =IF(L6=0,"",N6*2.88%) -> 670.79486 | Q6: =IF(L6=0,"",O6) -> 5555.77 | R6: =IF(M6=0,"",P6) -> 670.79486
A7: 2 | B7: 2021 | C7: GELSI SIMONE | D7: ISTRUTTORI | E7: 12 | F7: 1 | G7: =IF($D7="","",IF($F7="",VLOOKUP($D7,Tabelle!$A:$E,2,FALSE),VLOOKUP($D7,Tabelle!$A:$E,2,FALSE)*$F7))/12*$E7 -> 21392.87 | H7: =IF($D7="","",IF($F7="",VLOOKUP($D7,Tabelle!$A:$E,3,FALSE),VLOOKUP($D7,Tabelle!$A:$E,3,FALSE)*$F7))/12*$E7 -> 1782.74 | I7: =IF($D7="","",IF($F7="",VLOOKUP($D7,Tabelle!$A:$E,4,FALSE),VLOOKUP($D7,Tabelle!$A:$E,4,FALSE)*$F7))/12*$E7 -> 52.08 | J7: =IF($D7="","",IF($F7="",VLOOKUP($D7,Tabelle!$A:$E,5,FALSE),VLOOKUP($D7,Tabelle!$A:$E,5,FALSE)*$F7))/12*$E7 -> 115.87805 | K7: =IF($D7="","",IF($F7="",VLOOKUP($D7,Tabelle!$A:$F,6,FALSE),VLOOKUP($D7,Tabelle!$A:$F,6,FALSE)*$F7))/12*$E7 -> 0 | L7: =SUM(G7:K7) -> 23343.568 | M7: =L7 -> 23343.568 | N7: =IF(L7=0,"",L7-I7) -> 23291.488 | O7: =ROUND(M7*23.8%,2) -> 5555.77 | P7: =IF(L7=0,"",N7*2.88%) -> 670.79486 | Q7: =IF(L7=0,"",O7) -> 5555.77 | R7: =IF(M7=0,"",P7) -> 670.79486
A8: 3 | B8: 2021 | C8: TESTI MASSIMILIANO | D8: ISTRUTTORI | E8: 12 | F8: 1 | G8: =IF($D8="","",IF($F8="",VLOOKUP($D8,Tabelle!$A:$E,2,FALSE),VLOOKUP($D8,Tabelle!$A:$E,2,FALSE)*$F8))/12*$E8 -> 21392.87 | H8: =IF($D8="","",IF($F8="",VLOOKUP($D8,Tabelle!$A:$E,3,FALSE),VLOOKUP($D8,Tabelle!$A:$E,3,FALSE)*$F8))/12*$E8 -> 1782.74 | I8: =IF($D8="","",IF($F8="",VLOOKUP($D8,Tabelle!$A:$E,4,FALSE),VLOOKUP($D8,Tabelle!$A:$E,4,FALSE)*$F8))/12*$E8 -> 52.08 | J8: =IF($D8="","",IF($F8="",VLOOKUP($D8,Tabelle!$A:$E,5,FALSE),VLOOKUP($D8,Tabelle!$A:$E,5,FALSE)*$F8))/12*$E8 -> 115.87805 | K8: =IF($D8="","",IF($F8="",VLOOKUP($D8,Tabelle!$A:$F,6,FALSE),VLOOKUP($D8,Tabelle!$A:$F,6,FALSE)*$F8))/12*$E8 -> 0 | L8: =SUM(G8:K8) -> 23343.568 | M8: =L8 -> 23343.568 | N8: =IF(L8=0,"",L8-I8) -> 23291.488 | O8: =ROUND(M8*23.8%,2) -> 5555.77 | P8: =IF(L8=0,"",N8*2.88%) -> 670.79486 | Q8: =IF(L8=0,"",O8) -> 5555.77 | R8: =IF(M8=0,"",P8) -> 670.79486
A9: 4 | B9: 2022 | C9: GALLI MARIA CRISTINA | D9: ISTRUTTORI | E9: 12 | F9: 1 | G9: =IF($D9="","",IF($F9="",VLOOKUP($D9,Tabelle!$A:$E,2,FALSE),VLOOKUP($D9,Tabelle!$A:$E,2,FALSE)*$F9))/12*$E9 -> 21392.87 | H9: =IF($D9="","",IF($F9="",VLOOKUP($D9,Tabelle!$A:$E,3,FALSE),VLOOKUP($D9,Tabelle!$A:$E,3,FALSE)*$F9))/12*$E9 -> 1782.74 | I9: =IF($D9="","",IF($F9="",VLOOKUP($D9,Tabelle!$A:$E,4,FALSE),VLOOKUP($D9,Tabelle!$A:$E,4,FALSE)*$F9))/12*$E9 -> 52.08 | J9: =IF($D9="","",IF($F9="",VLOOKUP($D9,Tabelle!$A:$E,5,FALSE),VLOOKUP($D9,Tabelle!$A:$E,5,FALSE)*$F9))/12*$E9 -> 115.87805 | K9: =IF($D9="","",IF($F9="",VLOOKUP($D9,Tabelle!$A:$F,6,FALSE),VLOOKUP($D9,Tabelle!$A:$F,6,FALSE)*$F9))/12*$E9 -> 0 | L9: =SUM(G9:K9) -> 23343.568 | M9: =L9 -> 23343.568 | N9: =IF(L9=0,"",L9-I9) -> 23291.488 | O9: =ROUND(M9*23.8%,2) -> 5555.77 | P9: =IF(L9=0,"",N9*2.88%) -> 670.79486 | Q9: =IF(L9=0,"",O9) -> 5555.77 | R9: =IF(M9=0,"",P9) -> 670.79486
A10: 5 | B10: 2022 | C10: CORSI FRANCESCO | D10: ISTRUTTORI | E10: 12 | F10: 1 | G10: =IF($D10="","",IF($F10="",VLOOKUP($D10,Tabelle!$A:$E,2,FALSE),VLOOKUP($D10,Tabelle!$A:$E,2,FALSE)*$F10))/12*$E10 -> 21392.87 | H10: =IF($D10="","",IF($F10="",VLOOKUP($D10,Tabelle!$A:$E,3,FALSE),VLOOKUP($D10,Tabelle!$A:$E,3,FALSE)*$F10))/12*$E10 -> 1782.74 | I10: =IF($D10="","",IF($F10="",VLOOKUP($D10,Tabelle!$A:$E,4,FALSE),VLOOKUP($D10,Tabelle!$A:$E,4,FALSE)*$F10))/12*$E10 -> 52.08 | J10: =IF($D10="","",IF($F10="",VLOOKUP($D10,Tabelle!$A:$E,5,FALSE),VLOOKUP($D10,Tabelle!$A:$E,5,FALSE)*$F10))/12*$E10 -> 115.87805 | K10: =IF($D10="","",IF($F10="",VLOOKUP($D10,Tabelle!$A:$F,6,FALSE),VLOOKUP($D10,Tabelle!$A:$F,6,FALSE)*$F10))/12*$E10 -> 0 | L10: =SUM(G10:K10) -> 23343.568 | M10: =L10 -> 23343.568 | N10: =IF(L10=0,"",L10-I10) -> 23291.488 | O10: =ROUND(M10*23.8%,2) -> 5555.77 | P10: =IF(L10=0,"",N10*2.88%) -> 670.79486 | Q10: =IF(L10=0,"",O10) -> 5555.77 | R10: =IF(M10=0,"",P10) -> 670.79486
A11: 6 | B11: 2022 | C11: FERRINI FRANCESCA | D11: ISTRUTTORI | E11: 12 | F11: 1 | G11: =IF($D11="","",IF($F11="",VLOOKUP($D11,Tabelle!$A:$E,2,FALSE),VLOOKUP($D11,Tabelle!$A:$E,2,FALSE)*$F11))/12*$E11 -> 21392.87 | H11: =IF($D11="","",IF($F11="",VLOOKUP($D11,Tabelle!$A:$E,3,FALSE),VLOOKUP($D11,Tabelle!$A:$E,3,FALSE)*$F11))/12*$E11 -> 1782.74 | I11: =IF($D11="","",IF($F11="",VLOOKUP($D11,Tabelle!$A:$E,4,FALSE),VLOOKUP($D11,Tabelle!$A:$E,4,FALSE)*$F11))/12*$E11 -> 52.08 | J11: =IF($D11="","",IF($F11="",VLOOKUP($D11,Tabelle!$A:$E,5,FALSE),VLOOKUP($D11,Tabelle!$A:$E,5,FALSE)*$F11))/12*$E11 -> 115.87805 | K11: =IF($D11="","",IF($F11="",VLOOKUP($D11,Tabelle!$A:$F,6,FALSE),VLOOKUP($D11,Tabelle!$A:$F,6,FALSE)*$F11))/12*$E11 -> 0 | L11: =SUM(G11:K11) -> 23343.568 | M11: =L11 -> 23343.568 | N11: =IF(L11=0,"",L11-I11) -> 23291.488 | O11: =ROUND(M11*23.8%,2) -> 5555.77 | P11: =IF(L11=0,"",N11*2.88%) -> 670.79486 | Q11: =IF(L11=0,"",O11) -> 5555.77 | R11: =IF(M11=0,"",P11) -> 670.79486
A12: 7 | B12: 2022 | C12: MAZZEI EMANUELE | D12: OPERATORI ESPERTI | E12: 12 | F12: 1 | G12: =IF($D12="","",IF($F12="",VLOOKUP($D12,Tabelle!$A:$E,2,FALSE),VLOOKUP($D12,Tabelle!$A:$E,2,FALSE)*$F12))/12*$E12 -> 19034.51 | H12: =IF($D12="","",IF($F12="",VLOOKUP($D12,Tabelle!$A:$E,3,FALSE),VLOOKUP($D12,Tabelle!$A:$E,3,FALSE)*$F12))/12*$E12 -> 1586.21 | I12: =IF($D12="","",IF($F12="",VLOOKUP($D12,Tabelle!$A:$E,4,FALSE),VLOOKUP($D12,Tabelle!$A:$E,4,FALSE)*$F12))/12*$E12 -> 44.76 | J12: =IF($D12="","",IF($F12="",VLOOKUP($D12,Tabelle!$A:$E,5,FALSE),VLOOKUP($D12,Tabelle!$A:$E,5,FALSE)*$F12))/12*$E12 -> 103.1036 | K12: =IF($D12="","",IF($F12="",VLOOKUP($D12,Tabelle!$A:$F,6,FALSE),VLOOKUP($D12,Tabelle!$A:$F,6,FALSE)*$F12))/12*$E12 -> 0 | L12: =SUM(G12:K12) -> 20768.584 | M12: =L12 -> 20768.584 | N12: =IF(L12=0,"",L12-I12) -> 20723.824 | O12: =ROUND(M12*23.8%,2) -> 4942.92 | P12: =IF(L12=0,"",N12*2.88%) -> 596.84612 | Q12: =IF(L12=0,"",O12) -> 4942.92 | R12: =IF(M12=0,"",P12) -> 596.84612
A13: 8 | B13: 2023 | C13: RAINO' CHIARA | D13: ISTRUTTORI | E13: 12 | F13: 1 | G13: =IF($D13="","",IF($F13="",VLOOKUP($D13,Tabelle!$A:$E,2,FALSE),VLOOKUP($D13,Tabelle!$A:$E,2,FALSE)*$F13))/12*$E13 -> 21392.87 | H13: =IF($D13="","",IF($F13="",VLOOKUP($D13,Tabelle!$A:$E,3,FALSE),VLOOKUP($D13,Tabelle!$A:$E,3,FALSE)*$F13))/12*$E13 -> 1782.74 | I13: =IF($D13="","",IF($F13="",VLOOKUP($D13,Tabelle!$A:$E,4,FALSE),VLOOKUP($D13,Tabelle!$A:$E,4,FALSE)*$F13))/12*$E13 -> 52.08 | J13: =IF($D13="","",IF($F13="",VLOOKUP($D13,Tabelle!$A:$E,5,FALSE),VLOOKUP($D13,Tabelle!$A:$E,5,FALSE)*$F13))/12*$E13 -> 115.87805 | K13: =IF($D13="","",IF($F13="",VLOOKUP($D13,Tabelle!$A:$F,6,FALSE),VLOOKUP($D13,Tabelle!$A:$F,6,FALSE)*$F13))/12*$E13 -> 0 | L13: =SUM(G13:K13) -> 23343.568 | M13: =L13 -> 23343.568 | N13: =IF(L13=0,"",L13-I13) -> 23291.488 | O13: =ROUND(M13*23.8%,2) -> 5555.77 | P13: =IF(L13=0,"",N13*2.88%) -> 670.79486 | Q13: =IF(L13=0,"",O13) -> 5555.77 | R13: =IF(M13=0,"",P13) -> 670.79486
A14: 9 | B14: 2023 | C14: FIORINO GABRIELLA | D14: ISTRUTTORI | E14: 12 | F14: 1 | G14: =IF($D14="","",IF($F14="",VLOOKUP($D14,Tabelle!$A:$E,2,FALSE),VLOOKUP($D14,Tabelle!$A:$E,2,FALSE)*$F14))/12*$E14 -> 21392.87 | H14: =IF($D14="","",IF($F14="",VLOOKUP($D14,Tabelle!$A:$E,3,FALSE),VLOOKUP($D14,Tabelle!$A:$E,3,FALSE)*$F14))/12*$E14 -> 1782.74 | I14: =IF($D14="","",IF($F14="",VLOOKUP($D14,Tabelle!$A:$E,4,FALSE),VLOOKUP($D14,Tabelle!$A:$E,4,FALSE)*$F14))/12*$E14 -> 52.08 | J14: =IF($D14="","",IF($F14="",VLOOKUP($D14,Tabelle!$A:$E,5,FALSE),VLOOKUP($D14,Tabelle!$A:$E,5,FALSE)*$F14))/12*$E14 -> 115.87805 | K14: =IF($D14="","",IF($F14="",VLOOKUP($D14,Tabelle!$A:$F,6,FALSE),VLOOKUP($D14,Tabelle!$A:$F,6,FALSE)*$F14))/12*$E14 -> 0 | L14: =SUM(G14:K14) -> 23343.568 | M14: =L14 -> 23343.568 | N14: =IF(L14=0,"",L14-I14) -> 23291.488 | O14: =ROUND(M14*23.8%,2) -> 5555.77 | P14: =IF(L14=0,"",N14*2.88%) -> 670.79486 | Q14: =IF(L14=0,"",O14) -> 5555.77 | R14: =IF(M14=0,"",P14) -> 670.79486
A15: 10 | B15: 2024 | C15: SCORR. GRADUATORIA | D15: ISTRUTTORI | E15: 12 | F15: 1 | G15: =IF($D15="","",IF($F15="",VLOOKUP($D15,Tabelle!$A:$E,2,FALSE),VLOOKUP($D15,Tabelle!$A:$E,2,FALSE)*$F15))/12*$E15 -> 21392.87 | H15: =IF($D15="","",IF($F15="",VLOOKUP($D15,Tabelle!$A:$E,3,FALSE),VLOOKUP($D15,Tabelle!$A:$E,3,FALSE)*$F15))/12*$E15 -> 1782.74 | I15: =IF($D15="","",IF($F15="",VLOOKUP($D15,Tabelle!$A:$E,4,FALSE),VLOOKUP($D15,Tabelle!$A:$E,4,FALSE)*$F15))/12*$E15 -> 52.08 | J15: =IF($D15="","",IF($F15="",VLOOKUP($D15,Tabelle!$A:$E,5,FALSE),VLOOKUP($D15,Tabelle!$A:$E,5,FALSE)*$F15))/12*$E15 -> 115.87805 | K15: =IF($D15="","",IF($F15="",VLOOKUP($D15,Tabelle!$A:$F,6,FALSE),VLOOKUP($D15,Tabelle!$A:$F,6,FALSE)*$F15))/12*$E15 -> 0 | L15: =SUM(G15:K15) -> 23343.568 | M15: =L15 -> 23343.568 | N15: =IF(L15=0,"",L15-I15) -> 23291.488 | O15: =ROUND(M15*23.8%,2) -> 5555.77 | P15: =IF(L15=0,"",N15*2.88%) -> 670.79486 | Q15: =IF(L15=0,"",O15) -> 5555.77 | R15: =IF(M15=0,"",P15) -> 670.79486
A16: 11 | B16: 2024 | C16: CONCORSO/MOBILITA' | D16: FUNZIONARI | E16: 12 | F16: 1 | G16: =IF($D16="","",IF($F16="",VLOOKUP($D16,Tabelle!$A:$E,2,FALSE),VLOOKUP($D16,Tabelle!$A:$E,2,FALSE)*$F16))/12*$E16 -> 23212.35 | H16: =IF($D16="","",IF($F16="",VLOOKUP($D16,Tabelle!$A:$E,3,FALSE),VLOOKUP($D16,Tabelle!$A:$E,3,FALSE)*$F16))/12*$E16 -> 1934.36 | I16: =IF($D16="","",IF($F16="",VLOOKUP($D16,Tabelle!$A:$E,4,FALSE),VLOOKUP($D16,Tabelle!$A:$E,4,FALSE)*$F16))/12*$E16 -> 59.4 | J16: =IF($D16="","",IF($F16="",VLOOKUP($D16,Tabelle!$A:$E,5,FALSE),VLOOKUP($D16,Tabelle!$A:$E,5,FALSE)*$F16))/12*$E16 -> 125.73355 | K16: =IF($D16="","",IF($F16="",VLOOKUP($D16,Tabelle!$A:$F,6,FALSE),VLOOKUP($D16,Tabelle!$A:$F,6,FALSE)*$F16))/12*$E16 -> 0 | L16: =SUM(G16:K16) -> 25331.844 | M16: =L16 -> 25331.844 | N16: =IF(L16=0,"",L16-I16) -> 25272.444 | O16: =ROUND(M16*23.8%,2) -> 6028.98 | P16: =IF(L16=0,"",N16*2.88%) -> 727.84637 | Q16: =IF(L16=0,"",O16) -> 6028.98 | R16: =IF(M16=0,"",P16) -> 727.84637
A17: 12 | D17: ISTRUTTORI | F17: 1 | G17: =IF($D17="","",IF($F17="",VLOOKUP($D17,Tabelle!$A:$E,2,FALSE),VLOOKUP($D17,Tabelle!$A:$E,2,FALSE)*$F17))/12*$E17 -> 0 | H17: =IF($D17="","",IF($F17="",VLOOKUP($D17,Tabelle!$A:$E,3,FALSE),VLOOKUP($D17,Tabelle!$A:$E,3,FALSE)*$F17))/12*$E17 -> 0 | I17: =IF($D17="","",IF($F17="",VLOOKUP($D17,Tabelle!$A:$E,4,FALSE),VLOOKUP($D17,Tabelle!$A:$E,4,FALSE)*$F17))/12*$E17 -> 0 | J17: =IF($D17="","",IF($F17="",VLOOKUP($D17,Tabelle!$A:$E,5,FALSE),VLOOKUP($D17,Tabelle!$A:$E,5,FALSE)*$F17))/12*$E17 -> 0 | K17: =IF($D17="","",IF($F17="",VLOOKUP($D17,Tabelle!$A:$F,6,FALSE),VLOOKUP($D17,Tabelle!$A:$F,6,FALSE)*$F17))/12*$E17 -> 0 | L17: =SUM(G17:K17) -> 0 | M17: =L17 -> 0 | N17: =IF(L17=0,"",L17-I17) | O17: =ROUND(M17*23.8%,2) -> 0 | P17: =IF(L17=0,"",N17*2.88%) | Q17: =IF(L17=0,"",O17) | R17: =IF(M17=0,"",P17)
A18: 13 | D18: ISTRUTTORI | F18: 1 | G18: =IF($D18="","",IF($F18="",VLOOKUP($D18,Tabelle!$A:$E,2,FALSE),VLOOKUP($D18,Tabelle!$A:$E,2,FALSE)*$F18))/12*$E18 -> 0 | H18: =IF($D18="","",IF($F18="",VLOOKUP($D18,Tabelle!$A:$E,3,FALSE),VLOOKUP($D18,Tabelle!$A:$E,3,FALSE)*$F18))/12*$E18 -> 0 | I18: =IF($D18="","",IF($F18="",VLOOKUP($D18,Tabelle!$A:$E,4,FALSE),VLOOKUP($D18,Tabelle!$A:$E,4,FALSE)*$F18))/12*$E18 -> 0 | J18: =IF($D18="","",IF($F18="",VLOOKUP($D18,Tabelle!$A:$E,5,FALSE),VLOOKUP($D18,Tabelle!$A:$E,5,FALSE)*$F18))/12*$E18 -> 0 | K18: =IF($D18="","",IF($F18="",VLOOKUP($D18,Tabelle!$A:$F,6,FALSE),VLOOKUP($D18,Tabelle!$A:$F,6,FALSE)*$F18))/12*$E18 -> 0 | L18: =SUM(G18:K18) -> 0 | M18: =L18 -> 0 | N18: =IF(L18=0,"",L18-I18) | O18: =ROUND(M18*23.8%,2) -> 0 | P18: =IF(L18=0,"",N18*2.88%) | Q18: =IF(L18=0,"",O18) | R18: =IF(M18=0,"",P18)
A19: 14 | D19: ISTRUTTORI | F19: 1 | G19: =IF($D19="","",IF($F19="",VLOOKUP($D19,Tabelle!$A:$E,2,FALSE),VLOOKUP($D19,Tabelle!$A:$E,2,FALSE)*$F19))/12*$E19 -> 0 | H19: =IF($D19="","",IF($F19="",VLOOKUP($D19,Tabelle!$A:$E,3,FALSE),VLOOKUP($D19,Tabelle!$A:$E,3,FALSE)*$F19))/12*$E19 -> 0 | I19: =IF($D19="","",IF($F19="",VLOOKUP($D19,Tabelle!$A:$E,4,FALSE),VLOOKUP($D19,Tabelle!$A:$E,4,FALSE)*$F19))/12*$E19 -> 0 | J19: =IF($D19="","",IF($F19="",VLOOKUP($D19,Tabelle!$A:$E,5,FALSE),VLOOKUP($D19,Tabelle!$A:$E,5,FALSE)*$F19))/12*$E19 -> 0 | K19: =IF($D19="","",IF($F19="",VLOOKUP($D19,Tabelle!$A:$F,6,FALSE),VLOOKUP($D19,Tabelle!$A:$F,6,FALSE)*$F19))/12*$E19 -> 0 | L19: =SUM(G19:K19) -> 0 | M19: =L19 -> 0 | N19: =IF(L19=0,"",L19-I19) | O19: =ROUND(M19*23.8%,2) -> 0 | P19: =IF(L19=0,"",N19*2.88%) | Q19: =IF(L19=0,"",O19) | R19: =IF(M19=0,"",P19)
A20: 15 | D20: ISTRUTTORI | F20: 1 | G20: =IF($D20="","",IF($F20="",VLOOKUP($D20,Tabelle!$A:$E,2,FALSE),VLOOKUP($D20,Tabelle!$A:$E,2,FALSE)*$F20))/12*$E20 -> 0 | H20: =IF($D20="","",IF($F20="",VLOOKUP($D20,Tabelle!$A:$E,3,FALSE),VLOOKUP($D20,Tabelle!$A:$E,3,FALSE)*$F20))/12*$E20 -> 0 | I20: =IF($D20="","",IF($F20="",VLOOKUP($D20,Tabelle!$A:$E,4,FALSE),VLOOKUP($D20,Tabelle!$A:$E,4,FALSE)*$F20))/12*$E20 -> 0 | J20: =IF($D20="","",IF($F20="",VLOOKUP($D20,Tabelle!$A:$E,5,FALSE),VLOOKUP($D20,Tabelle!$A:$E,5,FALSE)*$F20))/12*$E20 -> 0 | K20: =IF($D20="","",IF($F20="",VLOOKUP($D20,Tabelle!$A:$F,6,FALSE),VLOOKUP($D20,Tabelle!$A:$F,6,FALSE)*$F20))/12*$E20 -> 0 | L20: =SUM(G20:K20) -> 0 | M20: =L20 -> 0 | N20: =IF(L20=0,"",L20-I20) | O20: =ROUND(M20*23.8%,2) -> 0 | P20: =IF(L20=0,"",N20*2.88%) | Q20: =IF(L20=0,"",O20) | R20: =IF(M20=0,"",P20)
A21: 16 | D21: ISTRUTTORI | F21: 1 | G21: =IF($D21="","",IF($F21="",VLOOKUP($D21,Tabelle!$A:$E,2,FALSE),VLOOKUP($D21,Tabelle!$A:$E,2,FALSE)*$F21))/12*$E21 -> 0 | H21: =IF($D21="","",IF($F21="",VLOOKUP($D21,Tabelle!$A:$E,3,FALSE),VLOOKUP($D21,Tabelle!$A:$E,3,FALSE)*$F21))/12*$E21 -> 0 | I21: =IF($D21="","",IF($F21="",VLOOKUP($D21,Tabelle!$A:$E,4,FALSE),VLOOKUP($D21,Tabelle!$A:$E,4,FALSE)*$F21))/12*$E21 -> 0 | J21: =IF($D21="","",IF($F21="",VLOOKUP($D21,Tabelle!$A:$E,5,FALSE),VLOOKUP($D21,Tabelle!$A:$E,5,FALSE)*$F21))/12*$E21 -> 0 | K21: =IF($D21="","",IF($F21="",VLOOKUP($D21,Tabelle!$A:$F,6,FALSE),VLOOKUP($D21,Tabelle!$A:$F,6,FALSE)*$F21))/12*$E21 -> 0 | L21: =SUM(G21:K21) -> 0 | M21: =L21 -> 0 | N21: =IF(L21=0,"",L21-I21) | O21: =ROUND(M21*23.8%,2) -> 0 | P21: =IF(L21=0,"",N21*2.88%) | Q21: =IF(L21=0,"",O21) | R21: =IF(M21=0,"",P21)
L22: =SUM(L6:L21) -> 256192.54 | Q22: =SUM(Q6:Q21) -> 60973.83 | R22: =SUM(R6:R21) -> 7361.8462
B23: TOTALE | C23: =L22+Q22+R22 -> 324528.22

Sheet Assunzioni TI dal 2020 - 2026
A1: COMUNE DI CAMPO NELL'ELBA | E1: ANNO | G1: 2026
A3: CALCOLO SPESA ASSUNZIONI EFFETTUATE DAL 2020 AI SENSI DEL D.P.C.M. 17/3/2020 (Escluso IRAP)
A5: Progr. | B5: ANNO DI ASSUNZIONE | C5: Dipendente (Cognome e nome) | D5: AREA | E5: Mesi | F5: Part-time (%) | G5: Retribuzione (12 mensilità) (a) | H5: Tredicesima (b) | I5: Indennità di comparto (c) | J5: Indennità di vacanza contrattuale (d) | L5: TOTALE RETRIBUZIONE | M5: Imponibile C.P.D.E.L. | N5: Imponibile TFR-S | O5: CPDEL | P5: TFR-S | Q5: TOTALE CPDEL | R5: TOTALE TFR-S
A6: 1 | B6: 2020 | C6: TECCHELLA STEFANO | D6: ISTRUTTORI | E6: 12 | F6: 1 | G6: =IF($D6="","",IF($F6="",VLOOKUP($D6,Tabelle!$A:$E,2,FALSE),VLOOKUP($D6,Tabelle!$A:$E,2,FALSE)*$F6))/12*$E6 -> 21392.87 | H6: =IF($D6="","",IF($F6="",VLOOKUP($D6,Tabelle!$A:$E,3,FALSE),VLOOKUP($D6,Tabelle!$A:$E,3,FALSE)*$F6))/12*$E6 -> 1782.74 | I6: =IF($D6="","",IF($F6="",VLOOKUP($D6,Tabelle!$A:$E,4,FALSE),VLOOKUP($D6,Tabelle!$A:$E,4,FALSE)*$F6))/12*$E6 -> 52.08 | J6: =IF($D6="","",IF($F6="",VLOOKUP($D6,Tabelle!$A:$E,5,FALSE),VLOOKUP($D6,Tabelle!$A:$E,5,FALSE)*$F6))/12*$E6 -> 115.87805 | K6: =IF($D6="","",IF($F6="",VLOOKUP($D6,Tabelle!$A:$F,6,FALSE),VLOOKUP($D6,Tabelle!$A:$F,6,FALSE)*$F6))/12*$E6 -> 0 | L6: =SUM(G6:K6) -> 23343.568 | M6: =L6 -> 23343.568 | N6: =IF(L6=0,"",L6-I6) -> 23291.488 | O6: =ROUND(M6*23.8%,2) -> 5555.77 | P6: =IF(L6=0,"",N6*2.88%) -> 670.79486 | Q6: =IF(L6=0,"",O6) -> 5555.77 | R6: =IF(M6=0,"",P6) -> 670.79486
A7: 2 | B7: 2021 | C7: GELSI SIMONE | D7: ISTRUTTORI | E7: 12 | F7: 1 | G7: =IF($D7="","",IF($F7="",VLOOKUP($D7,Tabelle!$A:$E,2,FALSE),VLOOKUP($D7,Tabelle!$A:$E,2,FALSE)*$F7))/12*$E7 -> 21392.87 | H7: =IF($D7="","",IF($F7="",VLOOKUP($D7,Tabelle!$A:$E,3,FALSE),VLOOKUP($D7,Tabelle!$A:$E,3,FALSE)*$F7))/12*$E7 -> 1782.74 | I7: =IF($D7="","",IF($F7="",VLOOKUP($D7,Tabelle!$A:$E,4,FALSE),VLOOKUP($D7,Tabelle!$A:$E,4,FALSE)*$F7))/12*$E7 -> 52.08 | J7: =IF($D7="","",IF($F7="",VLOOKUP($D7,Tabelle!$A:$E,5,FALSE),VLOOKUP($D7,Tabelle!$A:$E,5,FALSE)*$F7))/12*$E7 -> 115.87805 | K7: =IF($D7="","",IF($F7="",VLOOKUP($D7,Tabelle!$A:$F,6,FALSE),VLOOKUP($D7,Tabelle!$A:$F,6,FALSE)*$F7))/12*$E7 -> 0 | L7: =SUM(G7:K7) -> 23343.568 | M7: =L7 -> 23343.568 | N7: =IF(L7=0,"",L7-I7) -> 23291.488 | O7: =ROUND(M7*23.8%,2) -> 5555.77 | P7: =IF(L7=0,"",N7*2.88%) -> 670.79486 | Q7: =IF(L7=0,"",O7) -> 5555.77 | R7: =IF(M7=0,"",P7) -> 670.79486
A8: 3 | B8: 2021 | C8: TESTI MASSIMILIANO | D8: ISTRUTTORI | E8: 12 | F8: 1 | G8: =IF($D8="","",IF($F8="",VLOOKUP($D8,Tabelle!$A:$E,2,FALSE),VLOOKUP($D8,Tabelle!$A:$E,2,FALSE)*$F8))/12*$E8 -> 21392.87 | H8: =IF($D8="","",IF($F8="",VLOOKUP($D8,Tabelle!$A:$E,3,FALSE),VLOOKUP($D8,Tabelle!$A:$E,3,FALSE)*$F8))/12*$E8 -> 1782.74 | I8: =IF($D8="","",IF($F8="",VLOOKUP($D8,Tabelle!$A:$E,4,FALSE),VLOOKUP($D8,Tabelle!$A:$E,4,FALSE)*$F8))/12*$E8 -> 52.08 | J8: =IF($D8="","",IF($F8="",VLOOKUP($D8,Tabelle!$A:$E,5,FALSE),VLOOKUP($D8,Tabelle!$A:$E,5,FALSE)*$F8))/12*$E8 -> 115.87805 | K8: =IF($D8="","",IF($F8="",VLOOKUP($D8,Tabelle!$A:$F,6,FALSE),VLOOKUP($D8,Tabelle!$A:$F,6,FALSE)*$F8))/12*$E8 -> 0 | L8: =SUM(G8:K8) -> 23343.568 | M8: =L8 -> 23343.568 | N8: =IF(L8=0,"",L8-I8) -> 23291.488 | O8: =ROUND(M8*23.8%,2) -> 5555.77 | P8: =IF(L8=0,"",N8*2.88%) -> 670.79486 | Q8: =IF(L8=0,"",O8) -> 5555.77 | R8: =IF(M8=0,"",P8) -> 670.79486
A9: 4 | B9: 2022 | C9: GALLI MARIA CRISTINA | D9: ISTRUTTORI | E9: 12 | F9: 1 | G9: =IF($D9="","",IF($F9="",VLOOKUP($D9,Tabelle!$A:$E,2,FALSE),VLOOKUP($D9,Tabelle!$A:$E,2,FALSE)*$F9))/12*$E9 -> 21392.87 | H9: =IF($D9="","",IF($F9="",VLOOKUP($D9,Tabelle!$A:$E,3,FALSE),VLOOKUP($D9,Tabelle!$A:$E,3,FALSE)*$F9))/12*$E9 -> 1782.74 | I9: =IF($D9="","",IF($F9="",VLOOKUP($D9,Tabelle!$A:$E,4,FALSE),VLOOKUP($D9,Tabelle!$A:$E,4,FALSE)*$F9))/12*$E9 -> 52.08 | J9: =IF($D9="","",IF($F9="",VLOOKUP($D9,Tabelle!$A:$E,5,FALSE),VLOOKUP($D9,Tabelle!$A:$E,5,FALSE)*$F9))/12*$E9 -> 115.87805 | K9: =IF($D9="","",IF($F9="",VLOOKUP($D9,Tabelle!$A:$F,6,FALSE),VLOOKUP($D9,Tabelle!$A:$F,6,FALSE)*$F9))/12*$E9 -> 0 | L9: =SUM(G9:K9) -> 23343.568 | M9: =L9 -> 23343.568 | N9: =IF(L9=0,"",L9-I9) -> 23291.488 | O9: =ROUND(M9*23.8%,2) -> 5555.77 | P9: =IF(L9=0,"",N9*2.88%) -> 670.79486 | Q9: =IF(L9=0,"",O9) -> 5555.77 | R9: =IF(M9=0,"",P9) -> 670.79486
A10: 5 | B10: 2022 | C10: CORSI FRANCESCO | D10: ISTRUTTORI | E10: 12 | F10: 1 | G10: =IF($D10="","",IF($F10="",VLOOKUP($D10,Tabelle!$A:$E,2,FALSE),VLOOKUP($D10,Tabelle!$A:$E,2,FALSE)*$F10))/12*$E10 -> 21392.87 | H10: =IF($D10="","",IF($F10="",VLOOKUP($D10,Tabelle!$A:$E,3,FALSE),VLOOKUP($D10,Tabelle!$A:$E,3,FALSE)*$F10))/12*$E10 -> 1782.74 | I10: =IF($D10="","",IF($F10="",VLOOKUP($D10,Tabelle!$A:$E,4,FALSE),VLOOKUP($D10,Tabelle!$A:$E,4,FALSE)*$F10))/12*$E10 -> 52.08 | J10: =IF($D10="","",IF($F10="",VLOOKUP($D10,Tabelle!$A:$E,5,FALSE),VLOOKUP($D10,Tabelle!$A:$E,5,FALSE)*$F10))/12*$E10 -> 115.87805 | K10: =IF($D10="","",IF($F10="",VLOOKUP($D10,Tabelle!$A:$F,6,FALSE),VLOOKUP($D10,Tabelle!$A:$F,6,FALSE)*$F10))/12*$E10 -> 0 | L10: =SUM(G10:K10) -> 23343.568 | M10: =L10 -> 23343.568 | N10: =IF(L10=0,"",L10-I10) -> 23291.488 | O10: =ROUND(M10*23.8%,2) -> 5555.77 | P10: =IF(L10=0,"",N10*2.88%) -> 670.79486 | Q10: =IF(L10=0,"",O10) -> 5555.77 | R10: =IF(M10=0,"",P10) -> 670.79486
A11: 6 | B11: 2022 | C11: FERRINI FRANCESCA | D11: ISTRUTTORI | E11: 12 | F11: 1 | G11: =IF($D11="","",IF($F11="",VLOOKUP($D11,Tabelle!$A:$E,2,FALSE),VLOOKUP($D11,Tabelle!$A:$E,2,FALSE)*$F11))/12*$E11 -> 21392.87 | H11: =IF($D11="","",IF($F11="",VLOOKUP($D11,Tabelle!$A:$E,3,FALSE),VLOOKUP($D11,Tabelle!$A:$E,3,FALSE)*$F11))/12*$E11 -> 1782.74 | I11: =IF($D11="","",IF($F11="",VLOOKUP($D11,Tabelle!$A:$E,4,FALSE),VLOOKUP($D11,Tabelle!$A:$E,4,FALSE)*$F11))/12*$E11 -> 52.08 | J11: =IF($D11="","",IF($F11="",VLOOKUP($D11,Tabelle!$A:$E,5,FALSE),VLOOKUP($D11,Tabelle!$A:$E,5,FALSE)*$F11))/12*$E11 -> 115.87805 | K11: =IF($D11="","",IF($F11="",VLOOKUP($D11,Tabelle!$A:$F,6,FALSE),VLOOKUP($D11,Tabelle!$A:$F,6,FALSE)*$F11))/12*$E11 -> 0 | L11: =SUM(G11:K11) -> 23343.568 | M11: =L11 -> 23343.568 | N11: =IF(L11=0,"",L11-I11) -> 23291.488 | O11: =ROUND(M11*23.8%,2) -> 5555.77 | P11: =IF(L11=0,"",N11*2.88%) -> 670.79486 | Q11: =IF(L11=0,"",O11) -> 5555.77 | R11: =IF(M11=0,"",P11) -> 670.79486
A12: 7 | B12: 2022 | C12: MAZZEI EMANUELE | D12: OPERATORI ESPERTI | E12: 12 | F12: 1 | G12: =IF($D12="","",IF($F12="",VLOOKUP($D12,Tabelle!$A:$E,2,FALSE),VLOOKUP($D12,Tabelle!$A:$E,2,FALSE)*$F12))/12*$E12 -> 19034.51 | H12: =IF($D12="","",IF($F12="",VLOOKUP($D12,Tabelle!$A:$E,3,FALSE),VLOOKUP($D12,Tabelle!$A:$E,3,FALSE)*$F12))/12*$E12 -> 1586.21 | I12: =IF($D12="","",IF($F12="",VLOOKUP($D12,Tabelle!$A:$E,4,FALSE),VLOOKUP($D12,Tabelle!$A:$E,4,FALSE)*$F12))/12*$E12 -> 44.76 | J12: =IF($D12="","",IF($F12="",VLOOKUP($D12,Tabelle!$A:$E,5,FALSE),VLOOKUP($D12,Tabelle!$A:$E,5,FALSE)*$F12))/12*$E12 -> 103.1036 | K12: =IF($D12="","",IF($F12="",VLOOKUP($D12,Tabelle!$A:$F,6,FALSE),VLOOKUP($D12,Tabelle!$A:$F,6,FALSE)*$F12))/12*$E12 -> 0 | L12: =SUM(G12:K12) -> 20768.584 | M12: =L12 -> 20768.584 | N12: =IF(L12=0,"",L12-I12) -> 20723.824 | O12: =ROUND(M12*23.8%,2) -> 4942.92 | P12: =IF(L12=0,"",N12*2.88%) -> 596.84612 | Q12: =IF(L12=0,"",O12) -> 4942.92 | R12: =IF(M12=0,"",P12) -> 596.84612
A13: 8 | B13: 2023 | C13: RAINO' CHIARA | D13: ISTRUTTORI | E13: 12 | F13: 1 | G13: =IF($D13="","",IF($F13="",VLOOKUP($D13,Tabelle!$A:$E,2,FALSE),VLOOKUP($D13,Tabelle!$A:$E,2,FALSE)*$F13))/12*$E13 -> 21392.87 | H13: =IF($D13="","",IF($F13="",VLOOKUP($D13,Tabelle!$A:$E,3,FALSE),VLOOKUP($D13,Tabelle!$A:$E,3,FALSE)*$F13))/12*$E13 -> 1782.74 | I13: =IF($D13="","",IF($F13="",VLOOKUP($D13,Tabelle!$A:$E,4,FALSE),VLOOKUP($D13,Tabelle!$A:$E,4,FALSE)*$F13))/12*$E13 -> 52.08 | J13: =IF($D13="","",IF($F13="",VLOOKUP($D13,Tabelle!$A:$E,5,FALSE),VLOOKUP($D13,Tabelle!$A:$E,5,FALSE)*$F13))/12*$E13 -> 115.87805 | K13: =IF($D13="","",IF($F13="",VLOOKUP($D13,Tabelle!$A:$F,6,FALSE),VLOOKUP($D13,Tabelle!$A:$F,6,FALSE)*$F13))/12*$E13 -> 0 | L13: =SUM(G13:K13) -> 23343.568 | M13: =L13 -> 23343.568 | N13: =IF(L13=0,"",L13-I13) -> 23291.488 | O13: =ROUND(M13*23.8%,2) -> 5555.77 | P13: =IF(L13=0,"",N13*2.88%) -> 670.79486 | Q13: =IF(L13=0,"",O13) -> 5555.77 | R13: =IF(M13=0,"",P13) -> 670.79486
A14: 9 | B14: 2023 | C14: FIORINO GABRIELLA | D14: ISTRUTTORI | E14: 12 | F14: 1 | G14: =IF($D14="","",IF($F14="",VLOOKUP($D14,Tabelle!$A:$E,2,FALSE),VLOOKUP($D14,Tabelle!$A:$E,2,FALSE)*$F14))/12*$E14 -> 21392.87 | H14: =IF($D14="","",IF($F14="",VLOOKUP($D14,Tabelle!$A:$E,3,FALSE),VLOOKUP($D14,Tabelle!$A:$E,3,FALSE)*$F14))/12*$E14 -> 1782.74 | I14: =IF($D14="","",IF($F14="",VLOOKUP($D14,Tabelle!$A:$E,4,FALSE),VLOOKUP($D14,Tabelle!$A:$E,4,FALSE)*$F14))/12*$E14 -> 52.08 | J14: =IF($D14="","",IF($F14="",VLOOKUP($D14,Tabelle!$A:$E,5,FALSE),VLOOKUP($D14,Tabelle!$A:$E,5,FALSE)*$F14))/12*$E14 -> 115.87805 | K14: =IF($D14="","",IF($F14="",VLOOKUP($D14,Tabelle!$A:$F,6,FALSE),VLOOKUP($D14,Tabelle!$A:$F,6,FALSE)*$F14))/12*$E14 -> 0 | L14: =SUM(G14:K14) -> 23343.568 | M14: =L14 -> 23343.568 | N14: =IF(L14=0,"",L14-I14) -> 23291.488 | O14: =ROUND(M14*23.8%,2) -> 5555.77 | P14: =IF(L14=0,"",N14*2.88%) -> 670.79486 | Q14: =IF(L14=0,"",O14) -> 5555.77 | R14: =IF(M14=0,"",P14) -> 670.79486
A15: 10 | B15: 2024 | C15: SCORR. GRADUATORIA | D15: ISTRUTTORI | E15: 12 | F15: 1 | G15: =IF($D15="","",IF($F15="",VLOOKUP($D15,Tabelle!$A:$E,2,FALSE),VLOOKUP($D15,Tabelle!$A:$E,2,FALSE)*$F15))/12*$E15 -> 21392.87 | H15: =IF($D15="","",IF($F15="",VLOOKUP($D15,Tabelle!$A:$E,3,FALSE),VLOOKUP($D15,Tabelle!$A:$E,3,FALSE)*$F15))/12*$E15 -> 1782.74 | I15: =IF($D15="","",IF($F15="",VLOOKUP($D15,Tabelle!$A:$E,4,FALSE),VLOOKUP($D15,Tabelle!$A:$E,4,FALSE)*$F15))/12*$E15 -> 52.08 | J15: =IF($D15="","",IF($F15="",VLOOKUP($D15,Tabelle!$A:$E,5,FALSE),VLOOKUP($D15,Tabelle!$A:$E,5,FALSE)*$F15))/12*$E15 -> 115.87805 | K15: =IF($D15="","",IF($F15="",VLOOKUP($D15,Tabelle!$A:$F,6,FALSE),VLOOKUP($D15,Tabelle!$A:$F,6,FALSE)*$F15))/12*$E15 -> 0 | L15: =SUM(G15:K15) -> 23343.568 | M15: =L15 -> 23343.568 | N15: =IF(L15=0,"",L15-I15) -> 23291.488 | O15: =ROUND(M15*23.8%,2) -> 5555.77 | P15: =IF(L15=0,"",N15*2.88%) -> 670.79486 | Q15: =IF(L15=0,"",O15) -> 5555.77 | R15: =IF(M15=0,"",P15) -> 670.79486
A16: 11 | B16: 2024 | C16: CONCORSO/MOBILITA' | D16: FUNZIONARI | E16: 12 | F16: 1 | G16: =IF($D16="","",IF($F16="",VLOOKUP($D16,Tabelle!$A:$E,2,FALSE),VLOOKUP($D16,Tabelle!$A:$E,2,FALSE)*$F16))/12*$E16 -> 23212.35 | H16: =IF($D16="","",IF($F16="",VLOOKUP($D16,Tabelle!$A:$E,3,FALSE),VLOOKUP($D16,Tabelle!$A:$E,3,FALSE)*$F16))/12*$E16 -> 1934.36 | I16: =IF($D16="","",IF($F16="",VLOOKUP($D16,Tabelle!$A:$E,4,FALSE),VLOOKUP($D16,Tabelle!$A:$E,4,FALSE)*$F16))/12*$E16 -> 59.4 | J16: =IF($D16="","",IF($F16="",VLOOKUP($D16,Tabelle!$A:$E,5,FALSE),VLOOKUP($D16,Tabelle!$A:$E,5,FALSE)*$F16))/12*$E16 -> 125.73355 | K16: =IF($D16="","",IF($F16="",VLOOKUP($D16,Tabelle!$A:$F,6,FALSE),VLOOKUP($D16,Tabelle!$A:$F,6,FALSE)*$F16))/12*$E16 -> 0 | L16: =SUM(G16:K16) -> 25331.844 | M16: =L16 -> 25331.844 | N16: =IF(L16=0,"",L16-I16) -> 25272.444 | O16: =ROUND(M16*23.8%,2) -> 6028.98 | P16: =IF(L16=0,"",N16*2.88%) -> 727.84637 | Q16: =IF(L16=0,"",O16) -> 6028.98 | R16: =IF(M16=0,"",P16) -> 727.84637
A17: 12 | D17: ISTRUTTORI | F17: 1 | G17: =IF($D17="","",IF($F17="",VLOOKUP($D17,Tabelle!$A:$E,2,FALSE),VLOOKUP($D17,Tabelle!$A:$E,2,FALSE)*$F17))/12*$E17 -> 0 | H17: =IF($D17="","",IF($F17="",VLOOKUP($D17,Tabelle!$A:$E,3,FALSE),VLOOKUP($D17,Tabelle!$A:$E,3,FALSE)*$F17))/12*$E17 -> 0 | I17: =IF($D17="","",IF($F17="",VLOOKUP($D17,Tabelle!$A:$E,4,FALSE),VLOOKUP($D17,Tabelle!$A:$E,4,FALSE)*$F17))/12*$E17 -> 0 | J17: =IF($D17="","",IF($F17="",VLOOKUP($D17,Tabelle!$A:$E,5,FALSE),VLOOKUP($D17,Tabelle!$A:$E,5,FALSE)*$F17))/12*$E17 -> 0 | K17: =IF($D17="","",IF($F17="",VLOOKUP($D17,Tabelle!$A:$F,6,FALSE),VLOOKUP($D17,Tabelle!$A:$F,6,FALSE)*$F17))/12*$E17 -> 0 | L17: =SUM(G17:K17) -> 0 | M17: =L17 -> 0 | N17: =IF(L17=0,"",L17-I17) | O17: =ROUND(M17*23.8%,2) -> 0 | P17: =IF(L17=0,"",N17*2.88%) | Q17: =IF(L17=0,"",O17) | R17: =IF(M17=0,"",P17)
A18: 13 | D18: ISTRUTTORI | F18: 1 | G18: =IF($D18="","",IF($F18="",VLOOKUP($D18,Tabelle!$A:$E,2,FALSE),VLOOKUP($D18,Tabelle!$A:$E,2,FALSE)*$F18))/12*$E18 -> 0 | H18: =IF($D18="","",IF($F18="",VLOOKUP($D18,Tabelle!$A:$E,3,FALSE),VLOOKUP($D18,Tabelle!$A:$E,3,FALSE)*$F18))/12*$E18 -> 0 | I18: =IF($D18="","",IF($F18="",VLOOKUP($D18,Tabelle!$A:$E,4,FALSE),VLOOKUP($D18,Tabelle!$A:$E,4,FALSE)*$F18))/12*$E18 -> 0 | J18: =IF($D18="","",IF($F18="",VLOOKUP($D18,Tabelle!$A:$E,5,FALSE),VLOOKUP($D18,Tabelle!$A:$E,5,FALSE)*$F18))/12*$E18 -> 0 | K18: =IF($D18="","",IF($F18="",VLOOKUP($D18,Tabelle!$A:$F,6,FALSE),VLOOKUP($D18,Tabelle!$A:$F,6,FALSE)*$F18))/12*$E18 -> 0 | L18: =SUM(G18:K18) -> 0 | M18: =L18 -> 0 | N18: =IF(L18=0,"",L18-I18) | O18: =ROUND(M18*23.8%,2) -> 0 | P18: =IF(L18=0,"",N18*2.88%) | Q18: =IF(L18=0,"",O18) | R18: =IF(M18=0,"",P18)
A19: 14 | D19: ISTRUTTORI | F19: 1 | G19: =IF($D19="","",IF($F19="",VLOOKUP($D19,Tabelle!$A:$E,2,FALSE),VLOOKUP($D19,Tabelle!$A:$E,2,FALSE)*$F19))/12*$E19 -> 0 | H19: =IF($D19="","",IF($F19="",VLOOKUP($D19,Tabelle!$A:$E,3,FALSE),VLOOKUP($D19,Tabelle!$A:$E,3,FALSE)*$F19))/12*$E19 -> 0 | I19: =IF($D19="","",IF($F19="",VLOOKUP($D19,Tabelle!$A:$E,4,FALSE),VLOOKUP($D19,Tabelle!$A:$E,4,FALSE)*$F19))/12*$E19 -> 0 | J19: =IF($D19="","",IF($F19="",VLOOKUP($D19,Tabelle!$A:$E,5,FALSE),VLOOKUP($D19,Tabelle!$A:$E,5,FALSE)*$F19))/12*$E19 -> 0 | K19: =IF($D19="","",IF($F19="",VLOOKUP($D19,Tabelle!$A:$F,6,FALSE),VLOOKUP($D19,Tabelle!$A:$F,6,FALSE)*$F19))/12*$E19 -> 0 | L19: =SUM(G19:K19) -> 0 | M19: =L19 -> 0 | N19: =IF(L19=0,"",L19-I19) | O19: =ROUND(M19*23.8%,2) -> 0 | P19: =IF(L19=0,"",N19*2.88%) | Q19: =IF(L19=0,"",O19) | R19: =IF(M19=0,"",P19)
A20: 15 | D20: ISTRUTTORI | F20: 1 | G20: =IF($D20="","",IF($F20="",VLOOKUP($D20,Tabelle!$A:$E,2,FALSE),VLOOKUP($D20,Tabelle!$A:$E,2,FALSE)*$F20))/12*$E20 -> 0 | H20: =IF($D20="","",IF($F20="",VLOOKUP($D20,Tabelle!$A:$E,3,FALSE),VLOOKUP($D20,Tabelle!$A:$E,3,FALSE)*$F20))/12*$E20 -> 0 | I20: =IF($D20="","",IF($F20="",VLOOKUP($D20,Tabelle!$A:$E,4,FALSE),VLOOKUP($D20,Tabelle!$A:$E,4,FALSE)*$F20))/12*$E20 -> 0 | J20: =IF($D20="","",IF($F20="",VLOOKUP($D20,Tabelle!$A:$E,5,FALSE),VLOOKUP($D20,Tabelle!$A:$E,5,FALSE)*$F20))/12*$E20 -> 0 | K20: =IF($D20="","",IF($F20="",VLOOKUP($D20,Tabelle!$A:$F,6,FALSE),VLOOKUP($D20,Tabelle!$A:$F,6,FALSE)*$F20))/12*$E20 -> 0 | L20: =SUM(G20:K20) -> 0 | M20: =L20 -> 0 | N20: =IF(L20=0,"",L20-I20) | O20: =ROUND(M20*23.8%,2) -> 0 | P20: =IF(L20=0,"",N20*2.88%) | Q20: =IF(L20=0,"",O20) | R20: =IF(M20=0,"",P20)
A21: 16 | D21: ISTRUTTORI | F21: 1 | G21: =IF($D21="","",IF($F21="",VLOOKUP($D21,Tabelle!$A:$E,2,FALSE),VLOOKUP($D21,Tabelle!$A:$E,2,FALSE)*$F21))/12*$E21 -> 0 | H21: =IF($D21="","",IF($F21="",VLOOKUP($D21,Tabelle!$A:$E,3,FALSE),VLOOKUP($D21,Tabelle!$A:$E,3,FALSE)*$F21))/12*$E21 -> 0 | I21: =IF($D21="","",IF($F21="",VLOOKUP($D21,Tabelle!$A:$E,4,FALSE),VLOOKUP($D21,Tabelle!$A:$E,4,FALSE)*$F21))/12*$E21 -> 0 | J21: =IF($D21="","",IF($F21="",VLOOKUP($D21,Tabelle!$A:$E,5,FALSE),VLOOKUP($D21,Tabelle!$A:$E,5,FALSE)*$F21))/12*$E21 -> 0 | K21: =IF($D21="","",IF($F21="",VLOOKUP($D21,Tabelle!$A:$F,6,FALSE),VLOOKUP($D21,Tabelle!$A:$F,6,FALSE)*$F21))/12*$E21 -> 0 | L21: =SUM(G21:K21) -> 0 | M21: =L21 -> 0 | N21: =IF(L21=0,"",L21-I21) | O21: =ROUND(M21*23.8%,2) -> 0 | P21: =IF(L21=0,"",N21*2.88%) | Q21: =IF(L21=0,"",O21) | R21: =IF(M21=0,"",P21)
L22: =SUM(L6:L21) -> 256192.54 | Q22: =SUM(Q6:Q21) -> 60973.83 | R22: =SUM(R6:R21) -> 7361.8462
B23: TOTALE | C23: =L22+Q22+R22 -> 324528.22

Sheet Tabelle
A1: CATEGORIA | B1: Retribuzione 12 mensilità | C1: Tredicesima mensilità | D1: Indennità di comparto parte A (12 mensilità) | E1: Vacanza contrattuale (13 mensilità)
A2: Segr. - Fascia A | B2: 39979.29 | C2: =ROUND(B2/12,2) -> 3331.61 | D2: 0 | E2: 543.14
A3: Segr. - Fascia B | B3: 39979.29 | C3: =ROUND(B3/12,2) -> 3331.61 | D3: 0 | E3: 543.14
A4: Segr. - Fascia C | B4: 31983.43 | C4: =ROUND(B4/12,2) -> 2665.29 | D4: 0 | E4: =(B4+C4)*0.7% -> 242.54104
A5: Dirigente | B5: 39979.29 | C5: 3331.61 | D5: 0 | E5: 314.73
A6: FUNZIONARI | B6: 23212.35 | C6: =ROUND(B6/12,2) -> 1934.36 | D6: =4.95*12 -> 59.4 | E6: =(B6+C6)*0.5% -> 125.73355
A7: ISTRUTTORI | B7: 21392.87 | C7: =ROUND(B7/12,2) -> 1782.74 | D7: =4.34*12 -> 52.08 | E7: =(B7+C7)*0.5% -> 115.87805
A8: OPERATORI ESPERTI | B8: 19034.51 | C8: =ROUND(B8/12,2) -> 1586.21 | D8: =3.73*12 -> 44.76 | E8: =(B8+C8)*0.5% -> 103.1036
A9: OPERATORI | B9: 18044.37 | C9: =ROUND(B9/12,2) -> 1503.7 | D9: =3.09*12 -> 37.08 | E9: =(B9+C9)*0.5% -> 97.74035
A10: VUOTO | B10: 0 | C10: 0 | D10: 0 | E10: 0 | F10: 0
B11: comparto parte A
B13: A | C13: 3.09
B14: B | C14: 3.73
B15: C | C15: 4.34
B16: D | C16: 4.95
